BEGIN:VCALENDAR
VERSION:2.0
PRODID:-//tapahtumainfo.fi//NONSGML Siltasen kesäkeikat 2026//EN
METHOD:REQUEST
BEGIN:VEVENT
UID:20260423T114048-1754315938-tapahtumainfo.fi
DTSTAMP:20260423T114048
DTSTART:20260604T020000Z
DTEND:20260604T020000Z
LOCATION:Siltanen
SUMMARY:Siltasen kesäkeikat 2026
DESCRIPTION:<html><head></head><body><h2>Siltasen kesäkeikat 2026</h2><br /><p>4.6. Tohtori Getto<br>10.6. Tonium 4<br>11.6. Litku Klemetti (duo)<br>17.6. F<br>24.6. Yona (trio)<br>25.6. keiju - PIIKA EP-julkkarit + MOMO<br>1.7. Raappana<br>9.7. D1 DANI<br>15.7. Davy, Mikael Laurent<br>16.7. Yrjänä<br>22.7. DJ Kridlokk<br>29.7. Edicti<br>30.7. Are & Kriso<br>5.8. Orvokki<br>6.8. Koira<br>19.8. Folk Saimaa<br>20.8. Stepa <br>26.8. Jimi Tenor</p><br /><br /><p><strong>Konsertit terassilla -&nbsp;huonon sään sattuessa sisällä.</strong></p><br /><p><strong>Liput myös ovelta, jos jäljellä.</strong><br></p><br /><p><strong>Esteettömyys:</strong><br>Siltasen tilat ovat esteettömiä ja sisäänkäynti tapahtuu ramppia pitkin Hämeentieltä. Tiloissa on esteetön WC. Avustaja pääsee tapahtumaan ilmaiseksi avustettavan kanssa samalla lipulla.</p> <br /><br />  Visit event in our website: <a href='https://tapahtumainfo.fi/tapahtuma/2026/06/siltasen-kesakeikat-2026/441649'>Tapahtumainfo.fi</a></body></html>
END:VEVENT
END:VCALENDAR
