BEGIN:VCALENDAR
VERSION:2.0
PRODID:-//tapahtumainfo.fi//NONSGML Röge 69,9 FM -levyjulkkarit//EN
METHOD:REQUEST
BEGIN:VEVENT
UID:20260420T013452-427484280-tapahtumainfo.fi
DTSTAMP:20260420T013452
DTSTART:20260613T020000Z
DTEND:20260613T020000Z
LOCATION:Kuudes Linja
SUMMARY:Röge 69,9 FM -levyjulkkarit
DESCRIPTION:<html><head></head><body><h2>Röge 69,9 FM -levyjulkkarit Kutosella!</h2><br /><p>Terävistä sanoituksistaan tunnettu Röge juhlii myöhemmin keväällä ilmestyvää&nbsp;<em>69,9 FM</em>&nbsp;-nimeä kantavaa debyyttialbumiaan Kuudennella Linjalla 13. kesäkuuta! Garage tyyliseltä kokonaisuudelta ollaan saatu kuultavaksi jo single&nbsp;<em>3 tyttöystävää,</em>&nbsp;sekä viime perjantaina ilmestynyt tuplasinkku&nbsp;<em>Hämmästyttävää/Myönnä</em>.<br></p><br /><p>Röge erottuu kentällään oivaltavasta kynästään ja vakaan varmasta ulosannista. Kotkalaisräppäri viljelee sanoituksissaan muun muassa nokkelia viittauksia rapin legendaarisiin tapahtumiin ja omaan urheilutaustaansa “huudimaratoonarina”. Jo nuoresta rap-musiikille elänyt artisti vakuuttaa kuulijansa rennolla olemuksellaan sekä vahvalla omistautumisella tekemiseensä.&nbsp;</p><br /><br /><p><strong>Liput ovelta 18 €, mikäli jäljellä.<br></strong></p><br /><p><strong>Nettisivuilta vain suoria ostoja. Puhelinpalvelun kautta lippujen varausaika 2 päivää.</strong><br></p><br /><p><strong>Ovella peritään security fee 3,90 €.</strong><strong></strong><br></p><br /><p><strong>***</strong></p><br /><p><strong>Esteettömyys:<br></strong></p><br /><p>Avustaja pääsee tapahtumaan ilmaiseksi avustettavan kanssa samalla lipulla:<strong> </strong><strong>kyllä</strong><br>Tapahtumaan on esteetön pääsy pyörätuolilla: <strong>kyllä</strong><br>Tapahtumapaikalla on esteetön WC: <strong>kyllä</strong> (lukollinen, ravintolan henkilökunta avustaa oven avauksessa)<strong></strong><br>Pyörätuolia käyttävää tai erityistä avustusta tarvitsevaa asiakasta pyydetään olemaan etukäteen yhteydessä sujuvan sisäänpääsyn varmistamiseksi: <strong>Ravintolapäällikkö Amanda Kiviniemi, amanda@kuudeslinja.com</strong><br>Muuta huomioitavaa:<strong><strong> </strong></strong>Pyörätuolille käynti takaoven  kautta, Hämeentie 13 B.&nbsp;Olettehan ajoissa  yhteydessä ravintolapäällikköön sähköpostitse halutessanne käyttää esteetöntä sisäänkäyntiä.</p> <br /><br />  Visit event in our website: <a href='https://tapahtumainfo.fi/tapahtuma/2026/06/roge-69-9-fm-levyjulkkarit/441657'>Tapahtumainfo.fi</a></body></html>
END:VEVENT
END:VCALENDAR
