BEGIN:VCALENDAR
VERSION:2.0
PRODID:-//tapahtumainfo.fi//NONSGML Popedan Ajajat, Horsepower//EN
METHOD:REQUEST
BEGIN:VEVENT
UID:20260420T204855-136948800-tapahtumainfo.fi
DTSTAMP:20260420T204855
DTSTART:20260814T020000Z
DTEND:20260814T020000Z
LOCATION:Tavara-asema
SUMMARY:Popedan Ajajat, Horsepower
DESCRIPTION:<html><head></head><body><h2>Popedan Ajajat on todellinen erikoiskokoonpano, neljällä rumpalilla!&nbsp;</h2><br /><p>Rumpusettejä takovat eli bändiä ”ajavat” kaikki rumpalit, jotka Popedassa ovat vuosien varrella soittaneet.</p><br /><p>Yhtyeen kokoonpano:</p><br /><p>RUMMUT:<br>Kai Holm (1977–1983),<br>Kari Holm (1983–99),<br>Arto ”Arska” Rautajoki (1999–2007)<br>Lacu Lahtinen (2008–).</p><br /><p>LAULU: Jussi Aaltonen<br>KITARA: Mika ”Lamppari” Lamminsivu<br>KITARA: Antti Rautajoki<br>BASSOKITARA, STEMMALAULU: Jay Lewis<br>KOSKETINSOITTIMET ja STEMMALAULU: Jani Kemppinen</p><br /><p>Horsepower on tamperelaisen hard rockin kuumimpaan kermaan kuuluva bändi, joka palasi lauteille muutama vuosi sitten. Vuonna 2018 yhtye julkaisi pari uutta singleäkin vanhojen klassikoidensa jatkossa. Tavara-asemalla on luvassa takuutymäkkää rockin juhlaa!</p><br /><br /><p><strong>Eteispalvelu sisältyy lipun hintaan.</strong><strong><br></strong></p><br /><p><strong>Lipun hinta nousee Tiketissä tapahtumapäivänä ovien auetessa <br />ja myynti jatkuu verkkokaupassa ovien auettua, mikäli lippuja on <br />jäljellä. </strong><strong>Lipun hinta ovien auettua 35 €.<br></strong></p><br /><p><strong></strong></p><br /><p><strong><strong><strong><strong><strong>Tarkista soittoajat: <a href="https://www.tavara-asema.fi/" target="_blank">www.tavara-asema.fi</a></strong></strong></strong></strong></strong></p><br /><p><strong><strong>****</strong></strong></p><br /><p></p><br /><p><strong><strong>Tutustu Tavara-aseman <a href="https://tavara-asema.fi/info/" target="_blank">turvallisemman tilan periaatteisiin</a>.</strong></strong><strong><br></strong></p><br /><p><strong><strong><strong>Asiakkaana olevan henkilön avustaja pääsee tapahtumaan asiakkaan kanssa samalla lipulla.</strong></strong></strong></p><br /><p><strong><strong><a href="https://tavara-asema.fi/info/esteettomyys-ja-saavutettavuus/" target="_blank">Lue lisätietoa esteettömyydestä!</a></strong></strong></p> <br /><br />  Visit event in our website: <a href='https://tapahtumainfo.fi/tapahtuma/2026/08/popedan-ajajat-horsepower/441676'>Tapahtumainfo.fi</a></body></html>
END:VEVENT
END:VCALENDAR
