BEGIN:VCALENDAR
VERSION:2.0
PRODID:-//tapahtumainfo.fi//NONSGML Juliet Jonesin Sydän, Samae Koskinen//EN
METHOD:REQUEST
BEGIN:VEVENT
UID:20260424T112858-1171472151-tapahtumainfo.fi
DTSTAMP:20260424T112858
DTSTART:20261031T020000Z
DTEND:20261031T020000Z
LOCATION:Rytmikorjaamo
SUMMARY:Juliet Jonesin Sydän, Samae Koskinen
DESCRIPTION:<html><head></head><body><h3>JULIET JONESIN SYDÄN 2026</h3><br /><p>Kyllä! Myös tänä vuonna pääset kuuntelemaan, katsomaan ja ennen kaikkea kokemaan suomalaisen rockin aina, just niin, aina tuoretta bändiä. Tänä vuonna ROISTOT-levyn julkaisusta aiheellisesti juhlavat 40 vuotta, niinpä miehemme matkaavat ja keikkailevat ROISTOJEN PALUU -teemalla. Valonheittimet kytketään ja biisejä revitellään! Jonesit on tunnettu vapauttavan yllättävänä live-bändinä. Ja kaiken pohjana ilman muuta elävät, helkkarin hyvät kappaleet.<br>Mitä sitä turhaan odottelemaan, kipinät sinkoilevat kun Jonesit palaavat rikospaikalle.<br>Kyllä Pentti tietää!<br></p><br /><p><strong>Aikataulu</strong><br>19:00 Ovet<br>19:30 Samae Koskinen<br>21:00 Juliet Jonesin Sydän</p><br /><br /><p><strong>Liput ovelta 31 €, mikäli jäljellä.</strong></p><br /><p><strong><strong>Lipunhinta sisältää eteispalvelumaksun 2 €.</strong></strong><br></p><br /><p><strong>Rytmikorjaamo-klubilla maksuvälineenä käyvät vain yleiset maksukortit.</strong></p><br /><p>Lisätietoja keikkaan liittyen <em>info@selmu.fi. </em></p><br /><p>Lippuihin liittyvät tiedustelut <em>hei@tiketti.fi</em><strong><br></strong></p><br /><p><strong><strong>Tapahtumassa rajattu anniskelualue K-18.</strong><br></strong></p><br /><p><strong>Esteettömyys:</strong></p><br /><p>Avustaja pääsee tapahtumaan ilmaiseksi avustettavan kanssa samalla lipulla: <strong>kyllä</strong><br>Tapahtumaan on esteetön pääsy pyörätuolilla: <strong>kyllä</strong><br>Tapahtumapaikalla on esteetön WC: <strong>kyllä</strong><br>Tapahtumassa on pyörätuolikoroke: <strong>kyllä</strong><br>Muuta<br /> huomioitavaa: Kulkureitit tiloissamme ovat esteettömiä. <br />Pyörätuoliasiakkaat ohjataan normaaleissa keikkailloissa halutessaan pyörätuolikorokkeelle. Numeroimattomissa istumakonserteissa paikan saa <br />vapaasti valita.<em><br></em></p><br /><p>***<br></p><br /><p><strong>Seinäjoen Elävän musiikin yhdistys Selmu Ry ja <br />Luonnonperintösäätiö ovat perustaneet keräyksen, jonka tarkoituksena on <br />etsiä ja rauhoittaa suojelualue Selmun toiminta-alueelta <br />Etelä-Pohjanmaalta. </strong></p><br /><p>Ympäristölipun lahjoitus  +3€ lahjoitetaan lyhentämättömänä Luonnonperintösäätiön Rytmikorjaamon metsä -keräykseen.</p><br /><p><a href="https://www.luonnonperintosaatio.fi/kampanjat/rytmikorjaamon-metsa" target="_blank">Osallistu Rytmikorjaamon metsä -kampanjaan Luonnonperintösäätiön kampanjasivulla!</a></p> <br /><br />  Visit event in our website: <a href='https://tapahtumainfo.fi/tapahtuma/2026/10/juliet-jonesin-sydan-samae-koskinen/441683'>Tapahtumainfo.fi</a></body></html>
END:VEVENT
END:VCALENDAR
