BEGIN:VCALENDAR
VERSION:2.0
PRODID:-//tapahtumainfo.fi//NONSGML Asa//EN
METHOD:REQUEST
BEGIN:VEVENT
UID:20260422T062155-700752881-tapahtumainfo.fi
DTSTAMP:20260422T062155
DTSTART:20261112T020000Z
DTEND:20261112T020000Z
LOCATION:Tullikamarin Klubi
SUMMARY:Asa
DESCRIPTION:<html><head></head><body><p>Alkuvuodesta 2026 uuden albumin Yksinäisen perunan lastuja julkaissut <strong>Asa</strong> esiintyy 12.11. juuri peruskorjatun Tullikamarin Klubilla!</p><br /><br /><p><em>Jos tapahtumaan on lippuja jäljellä, niitä voi varata puhelinpalvelusta. Nettisivuilta vain suoria ostoja. Puhelinpalvelun kautta varausaika 2 päivää.</em></p><br /><p><strong>Eteispalvelu sisältyy lipun hintaan.</strong></p><br /><p><strong>Konsertti on seisova tapahtuma, istuimia hyvin rajoitetusti.</strong></p><br /><p><strong><strong>Lipun hinta nousee Tiketissä tapahtumapäivänä ovien auetessa ja myynti jatkuu verkkokaupassa ovien auettua, mikäli lippuja on jäljellä. </strong><strong>Lipun hinta ovien auettua 30 €.</strong></strong></p><br /><p><strong></strong><strong><strong><strong><strong><strong>Tarkista soittoajat:&nbsp;<a href="https://www.tullikamari.fi/" target="_blank">www.tullikamari.fi</a></strong></strong></strong></strong></strong></p><br /><p>****<strong></strong><strong></strong><strong></strong><strong></strong></p><br /><br /><br /><br /><strong><br /><p><strong>Tutustu Tullikamarin <a href="https://tullikamari.fi/info/turvallisuus-ja-turvallisemman-tilan-periaatteet" target="_blank">turvallisemman tilan periaatteisiin</a>.</strong></p><br /><p><strong><strong>Asiakkaana olevan henkilön avustaja pääsee tapahtumaan asiakkaan kanssa samalla lipulla. </strong><br></strong></p><br /><p><strong><strong><a href="https://tullikamari.fi/info/esteettomyys/" target="_blank">Lue lisätietoa esteettömyydestä!</a></strong></strong><strong></strong></p></strong> <br /><br />  Visit event in our website: <a href='https://tapahtumainfo.fi/tapahtuma/2026/11/asa/441684'>Tapahtumainfo.fi</a></body></html>
END:VEVENT
END:VCALENDAR
