BEGIN:VCALENDAR
VERSION:2.0
PRODID:-//tapahtumainfo.fi//NONSGML Apulanta//EN
METHOD:REQUEST
BEGIN:VEVENT
UID:20260422T130444-98303162-tapahtumainfo.fi
DTSTAMP:20260422T130444
DTSTART:20261121T020000Z
DTEND:20261121T020000Z
LOCATION:Tullikamarin Pakkahuone
SUMMARY:Apulanta
DESCRIPTION:<html><head></head><body><p>Apulanta ja Pakkahuone kuuluvat yhteen!&nbsp;</p><br /><p>Nyt tämän suomalaisen rockin suurimpiin kuuluvan yhtyeen voi jälleen nähdä pääkallon paikalla, kun Tullikamarin juuri peruskorjatut tilat avataan jälleen.</p><br /><br /><p><em>Jos tapahtumaan on lippuja jäljellä, niitä voi varata puhelinpalvelusta. Nettisivuilta vain suoria ostoja. Puhelinpalvelun kautta varausaika 2 päivää.</em></p><br /><p><strong><strong>Eteispalvelu sisältyy lipun hintaan.</strong></strong></p><br /><p><strong>Konsertti on seisova tapahtuma.</strong></p><br /><p><strong>L</strong><strong>ipun hinta nousee Tiketissä tapahtumapäivänä ovien auetessa ja myynti jatkuu verkkokaupassa ovien auettua, mikäli lippuja on jäljellä. </strong><strong>Lipun hinta ovien auettua 55 €.</strong></p><br /><p><strong><strong>T</strong></strong><strong><strong><strong><strong><strong>arkista soittoajat:&nbsp;<a href="https://www.tullikamari.fi/" target="_blank">www.tullikamari.fi</a></strong></strong></strong></strong></strong></p><br /><p>****</p><br /><p><strong>Tutustu Tullikamarin <a href="https://tullikamari.fi/info/turvallisuus-ja-turvallisemman-tilan-periaatteet" target="_blank">turvallisemman tilan periaatteisiin</a>.</strong></p><br /><p><strong><strong>Asiakkaana olevan henkilön avustaja pääsee tapahtumaan asiakkaan kanssa samalla lipulla.</strong></strong></p><br /><p><strong></strong><strong><strong><a href="https://tullikamari.fi/info/esteettomyys/" target="_blank">Lue lisätietoa esteettömyydestä!</a></strong></strong></p> <br /><br />  Visit event in our website: <a href='https://tapahtumainfo.fi/tapahtuma/2026/11/apulanta/441686'>Tapahtumainfo.fi</a></body></html>
END:VEVENT
END:VCALENDAR
