BEGIN:VCALENDAR
VERSION:2.0
PRODID:-//tapahtumainfo.fi//NONSGML Aikamatkaseikkailu 1950 â Lapsuus ja nuoruus ennen, nyt ja tulevaisuudessa -erikoisnÃ¤yttely//EN
METHOD:REQUEST
BEGIN:VEVENT
UID:20260422T131746-1777259554-tapahtumainfo.fi
DTSTAMP:20260422T131746
DTSTART:20260423T020000Z
DTEND:20280326T020000Z
LOCATION:Museo Leikki
SUMMARY:Aikamatkaseikkailu 1950 â Lapsuus ja nuoruus ennen, nyt ja tulevaisuudessa -erikoisnÃ¤yttely
DESCRIPTION:<html><head></head><body>Aikamatkaseikkailu 1950  -erikoisnÃ¤yttely Museo LeikissÃ¤ kutsuu astumaan aikamatkaajan alukseen ja lÃ¤htemÃ¤Ã¤n tutkimusmatkalle eri aikojen lapsuuteen. <br><br>Tulevaisuudesta saapunut aikamatkaaja on vieraillut 1950-luvulla selvittÃ¤mÃ¤ssÃ¤, millaista lasten arki tuolloin oli.  HÃ¤n on kerÃ¤nnyt mukaansa tutkimusnÃ¤ytteitÃ¤: leluja, esineitÃ¤, valokuvia ja muistoja lasten elÃ¤mÃ¤stÃ¤. <br><br>Nyt hÃ¤nen aikakoneensa on palannut menneestÃ¤ ja laskeutunut Museo Leikkiin. Aikamatkaajan kerÃ¤Ã¤mÃ¤t tutkimusnÃ¤ytteet kertovat ajasta, jolloin lapsia oli paljon, he osallistuivat arjen tÃ¶ihin, kÃ¤vivÃ¤t kurinalaista koulua sekÃ¤ leikkivÃ¤t omatekoisilla leluilla - useimmiten ulkona. Monet tuon ajan arkiset tavat herÃ¤ttÃ¤vÃ¤t aikamatkaajassa kysymyksiÃ¤.<br><br>ErikoisnÃ¤yttelyssÃ¤ aikamatkaaja kutsuu kÃ¤vijÃ¤t mukaan tutkimuksiinsa. Aikamatkaajan aluksessa voi tutustua 1950-luvun esineiden lisÃ¤ksi aikakauden valokuviin, Ã¤Ã¤ninÃ¤ytteisiin ja audiovisuaalisiin aineistoihin. NÃ¤yttelyssÃ¤ pÃ¤Ã¤see myÃ¶s sukeltamaan aikamatkailun maailmaan: voi testata aikakoneen ohjaamista ja huoltamista, suunnitella tutkimusvÃ¤lineitÃ¤ ja hahmotella tulevaisuuden leluja. LisÃ¤ksi nÃ¤yttely kutsuu heittÃ¤ytymÃ¤Ã¤n leikkiin 1950-luvun olohuoneessa ja fiftariteemaisessa pienoismaailmassa.<br> <br /><br />  Visit event in our website: <a href='https://tapahtumainfo.fi'>Tapahtumainfo.fi</a></body></html>
END:VEVENT
END:VCALENDAR
