BEGIN:VCALENDAR
VERSION:2.0
PRODID:-//tapahtumainfo.fi//NONSGML Emmi Kallio: Myrsky-nÃ¤yttelyn avajaiset//EN
METHOD:REQUEST
BEGIN:VEVENT
UID:20260420T031535-219523542-tapahtumainfo.fi
DTSTAMP:20260420T031535
DTSTART:20260613T020000Z
DTEND:20260613T020000Z
LOCATION:Kimmo PyykkÃ¶ -taidemuseo
SUMMARY:Emmi Kallio: Myrsky-nÃ¤yttelyn avajaiset
DESCRIPTION:<html><head></head><body>Avajaiset la 13.6. <br>Vapaa pÃ¤Ã¤sy taidemuseoon koko pÃ¤ivÃ¤n ajan klo 11â17. Avajaistilaisuus konserttisalissa klo 14 alkaen.<br><br>Ohjelma tÃ¤ydentyy myÃ¶hemmin. <br /><br />  Visit event in our website: <a href='https://tapahtumainfo.fi/tapahtuma/2026/06/emmi-kallio-myrsky-n-yttelyn-avajaiset/441697'>Tapahtumainfo.fi</a></body></html>
END:VEVENT
END:VCALENDAR
