BEGIN:VCALENDAR
VERSION:2.0
PRODID:-//tapahtumainfo.fi//NONSGML Finnish Jazz Showcase: WeeGee//EN
METHOD:REQUEST
BEGIN:VEVENT
UID:20260421T202946-1535340830-tapahtumainfo.fi
DTSTAMP:20260421T202946
DTSTART:20260421T020000Z
DTEND:20260421T020000Z
LOCATION:NÃ¤yttelykeskus WeeGee
SUMMARY:Finnish Jazz Showcase: WeeGee
DESCRIPTION:<html><head></head><body>April Jazz esittelee yhteistyÃ¶ssÃ¤ Suomen Jazzliiton, Music Finlandin ja Sibelius-Akatemian kanssa parasta suomalaista nykyjazzmusiikkia kansainvÃ¤lisille alan ammattilaisille â juhlistaakseen 100-vuotista jazzia Suomessa! Lue lisÃ¤Ã¤ tapahtumista tÃ¤Ã¤ltÃ¤.<br><br><br><br>Aikataulu WeeGeellÃ¤<br><br>15.00 Lassy-Eskola Nordic Stew (aula)<br><br>16.00 Pauli Lyytinen (KAMUn lava, 1. kerros)<br><br>17.15 Selma Savolainen in the shade (EMMA, 2. kerros)<br><br><br><br>LassyâEskola Nordic Stew<br><br>klo 15:00 (aula)<br><br>YhteistyÃ¶tÃ¤ jo 1990â'luvulta tehneiden Timo Lassyn ja Jukka Eskolan toistaiseksi merkittÃ¤vin yhteinen kokoonpano on ollut kansainvÃ¤lisesti menestynein kotimainen jazzâ'yhtye The Five Corners Quintet, joka on toiminut 2000â'luvun uuden suomalaisen jazzsukupolven suunnannÃ¤yttÃ¤jÃ¤nÃ¤.<br><br>Sittemmin kumpikin heistÃ¤ on luonut omaa soolouraansa ja julkaissut useita omia albumeita. Miesten ensimmÃ¤inen yhteisprojekti on kuitenkin antanut odottaa oikeaa hetkeÃ¤. Vuonna 2022 kaksikko pÃ¤Ã¤si viimein toteuttamaan pitkÃ¤aikaisen haaveensa ja matkusti New Orleansiin Ã¤Ã¤nittÃ¤mÃ¤Ã¤n yhteisalbumin paikallisten huippumuusikoiden kanssa. Lopputuloksena syntyi Nordic Stew, jossa kuuluvat Lassyn ja Eskolan musiikilliset kokemukset sekÃ¤ heidÃ¤n syvÃ¤ rakkautensa jazzin syntypaikkaa kohtaan.<br><br>YhtenÃ¤ inspiraationa albumin tekemiseen liittyy myÃ¶s tarina Andaniaâ'laivasta, jonka mukanaan tuomien amerikansuomalaisten muusikoiden vÃ¤littÃ¤mÃ¤nÃ¤ jazzmusiikki rantautui Suomeen 1920â'luvulla. Nyt 100 vuotta myÃ¶hemmin Lassy ja Eskola ovat vieneet sen takaisin syntysijoilleen ja pÃ¤ivittÃ¤neet siitÃ¤ oman versionsa.<br><br>Lassy ja Eskola vievÃ¤t kuulijat matkalle erilaisiin rytmimusiikin maailmoihin â pohjoismaisen jazzmusiikin runollista kauneutta unohtamatta. Nordic Stew on rikas sekoitus erilaisia rytmejÃ¤, melodioita ja harmonioita, dynaamista torvisoittoa ja nuoremman jazzsukupolven parhaimmistoa.<br><br>Jukka Eskola â trumpetti<br><br>Timo Lassy â saksofoni<br><br>Severi Sorjonen â rummut<br><br>Antti Ahoniemi â basso<br><br>Juho Valjakka â piano<br><br>Kenneth Ojutkangas â sousafoni<br><br><br><br>Pauli Lyytinen<br><br>klo 16:15 (KAMUn lava)<br><br>ViimeisimmÃ¤llÃ¤ sooloalbumillaan Lehto / Korpi Pauli Lyytinen soittaa tenoriâ', sopraanoâ' ja alttosaksofonia ja laajentaa ilmaisuaan eloefekteillÃ¤, mellotronilla ja perkussioilla. Kokonaisuuden viimeistelevÃ¤t hienovaraisesti taustalla kuuluvat kenttÃ¤â'Ã¤Ã¤nitykset. Kurjet, joutsenet ja muut Suomen kesÃ¤stÃ¤ tutut luontoÃ¤Ã¤net tekevÃ¤t musiikista omaleimaista ja liittyvÃ¤t albumin nimeen. Lehto ja Korpi ovat saman kolikon kaksi puolta, jotka muodostavat yhdessÃ¤ kokonaisen kuvan muusikosta, joka on ympÃ¤ristÃ¶stÃ¤Ã¤n inspiroituneena luonut tunteisiin vetoavan ja ainutlaatuisen teoksen, joka kuvastaa rakkautta ja kunnioitusta luontoa kohtaan.<br><br>Lehto / Korpi voitti Jazz Emma 2025 â'palkinnon ja se oli myÃ¶s ehdolla Indie Awards â'palkinnon saajaksi samana vuonna. Lyytinen on ollut soolouralla vuodesta 2012 ja julkaissut kaksi albumia. HÃ¤n on tunnettu seikkailullisesta ja tinkimÃ¤ttÃ¶mÃ¤stÃ¤ rytmiotteestaan ja rajat ylittÃ¤vÃ¤stÃ¤ taidemusiikistaan. ViisikymmentÃ¤ teosta kÃ¤sittÃ¤vÃ¤stÃ¤ diskografiastaan yli 30 sisÃ¤ltÃ¤Ã¤ Lyytisen sÃ¤veltÃ¤mÃ¤Ã¤ musiikkia ja artisti on esittÃ¤nyt omaa tuotantoaan sadoilla maineikkailla klubeilla ja festivaaleilla 35 maassa ympÃ¤ri maailmaa.<br><br><br><br>Pauli Lyytinen â saksofonit, mellotron, lyÃ¶mÃ¤soittimet, eloelektroniikka<br><br><br><br>Selma Savolainen in the shade<br><br>klo 17:15 (EMMAn Aitio)<br><br>Laulaja-lauluntekijÃ¤ Selma Savolainen tunnetaan ennakkoluulottomasta musiikintekijyydestÃ¤Ã¤n ja vaikuttavasta Ã¤Ã¤nenkÃ¤ytÃ¶stÃ¤Ã¤n. Helsingin Sanomat on kuvaillut hÃ¤ntÃ¤ artistiksi, joka on nostanut suomalaisen laulujazzin uudelle tasolle. HÃ¤nen englanninkielisiÃ¤ sÃ¤vellyksiÃ¤Ã¤n leimaa modernin jazzin ja vaihtoehtoisen singerâ'songwriter â'perinteen kiehtova yhdistelmÃ¤. Mieleenpainuva, henkilÃ¶kohtainen tarinankerronta tekee jokaisesta kappaleesta mukaansatempaavan kertomuksen. Savolaisen esikoisalbumi Horror Vacui voitti vuoden jazzalbumin Jazz Emma â'palkinnon vuonna 2024.<br><br>Iso-britannialainen levyâ'yhtiÃ¶ Whirlwind Recordings julkaisee nyt Savolaisen toisen albumin in the shade, jonka ilmaisu edustaa Savolaisen kuusijÃ¤senisen yhtyeen uutta suuntaa. Musiikissa kuuluu vaikutteita monenlaisilta artisteilta Radioheadista The Doorsiin. Albumia on ollut mukana tuottamassa Pambikalliostakin tuttu Lauri Kallio ja se kÃ¤sittelee muun muassa perhesuhteita, vihaisia miehiÃ¤ ja joukkohysteriaa. Albumin nimi in the shade on saanut inspiraationsa Savolaisen ollessa Pariisissa sÃ¤veltÃ¤mÃ¤ssÃ¤ uutta musiikkia: âAivan kuin pÃ¤ivÃ¤nsÃ¤de olisi tullut kotiini kurkistamaan, miten albumi eteneeâ, Savolainen kertoo.<br><br>Selma Savolainen â laulu<br><br>Tomi Nikku â trumpetti, flyygelitorvi<br><br>Max Zenger â puupuhaltimet<br><br>Toomas KeskiâSÃ¤ntti â piano<br><br>Eero Tikkanen â kontrabasso<br><br>Okko Saastamoinen â rummut<br><br> <br /><br />  Visit event in our website: <a href='https://tapahtumainfo.fi/tapahtuma/2026/04/finnish-jazz-showcase-weegee/441698'>Tapahtumainfo.fi</a></body></html>
END:VEVENT
END:VCALENDAR
