BEGIN:VCALENDAR
VERSION:2.0
PRODID:-//tapahtumainfo.fi//NONSGML Her Infinite Variety â Shakespearen naiset sanoin ja sÃ¤velin//EN
METHOD:REQUEST
BEGIN:VEVENT
UID:20260422T114848-1301020831-tapahtumainfo.fi
DTSTAMP:20260422T114848
DTSTART:20260423T020000Z
DTEND:20260423T020000Z
LOCATION:Hakasalmen huvila
SUMMARY:Her Infinite Variety â Shakespearen naiset sanoin ja sÃ¤velin
DESCRIPTION:<html><head></head><body>Kirjan ja ruusun pÃ¤ivÃ¤nÃ¤ eli nÃ¤ytelmÃ¤kirjailija William Shakespearen syntymÃ¤pÃ¤ivÃ¤nÃ¤ Hakasalmen huvilassa esitetÃ¤Ã¤n nÃ¤yttÃ¤mÃ¶llinen sooloteos, joka herÃ¤ttÃ¤Ã¤ eloon Shakespearen tekstit ja aikakauden musiikin ainutlaatuisella tavalla. Elina Mustonen toimii lavalla sekÃ¤ nÃ¤yttelijÃ¤nÃ¤ ettÃ¤ muusikkona. YhtenÃ¤isen dramaturgisen kokonaisuuden suunnittelusta vastaavat Mustosen lisÃ¤ksi kirjallisuuden tutkija Nely KeinÃ¤nen sekÃ¤ ohjaaja Johanna Freundlich. Musiikki esitetÃ¤Ã¤n Shakespearen ajan suosituimmalla kotisoittimella virginaalilla.<br><br>Tunnetilat vaihtelevat rakkaudesta ja himosta vihaan, kunnianhimosta ja pelosta huumoriin. MonikielisessÃ¤ esityksessÃ¤ tuoreet suomennokset tukevat tilanteiden ja tekstien ajattomuutta ja ajankohtaisuutta. SÃ¤vellysten tarttuvat melodiat ja rytmit peilautuvat Shakespearen tekstien monitasoisuuteen ja naiskohtaloiden kirjoon (infinite variety).<br><br>Teoksen tekstit on valittu nÃ¤ytelmistÃ¤ Loppiaisaatto, Henrik V, Romeo ja Julia, Talvinen tarina, Julius Caesar, KesÃ¤yÃ¶n uni, Macbeth, Kuningas Juhana, Hamlet, Othello ja Kuten haluatte. Musiikkia kuullaan seuraavilta sÃ¤veltÃ¤jiltÃ¤: William Byrd, John Dowland, Giles Farnaby, Orlando Gibbons, Thomas Morley, Martin Peerson ja Giovanni Picchi.<br><br>Konsertti sisÃ¤ltyy sisÃ¤Ã¤npÃ¤Ã¤symaksun hintaan (17/11â¬), ei erillisveloitusta. MeillÃ¤ kÃ¤y Museokortti. <br /><br />  Visit event in our website: <a href='https://tapahtumainfo.fi/tapahtuma/2026/04/her-infinite-variety--shakespearen-naiset-sanoin-ja-s-velin/441701'>Tapahtumainfo.fi</a></body></html>
END:VEVENT
END:VCALENDAR
