BEGIN:VCALENDAR
VERSION:2.0
PRODID:-//tapahtumainfo.fi//NONSGML Lady A//EN
METHOD:REQUEST
BEGIN:VEVENT
UID:20260423T125618-1782535470-tapahtumainfo.fi
DTSTAMP:20260423T125618
DTSTART:20260828T200000Z
DTEND:20260828T020000Z
LOCATION:
SUMMARY:Lady A
DESCRIPTION:<html><head></head><body> <br /><br />  Visit event in our website: <a href='https://tapahtumainfo.fi/tapahtuma/2026/08/lady-a/441702'>Tapahtumainfo.fi</a></body></html>
END:VEVENT
END:VCALENDAR
