BEGIN:VCALENDAR
VERSION:2.0
PRODID:-//tapahtumainfo.fi//NONSGML Myyrmäen roskatalkoot//EN
METHOD:REQUEST
BEGIN:VEVENT
UID:20260420T080802-1965636210-tapahtumainfo.fi
DTSTAMP:20260420T080802
DTSTART:20260425T020000Z
DTEND:20260425T020000Z
LOCATION:Myyrmäki
SUMMARY:Myyrmäen roskatalkoot
DESCRIPTION:<html><head></head><body><p>Siistitään Myyrmäki. Kerätään roskat pois<br />puistoista ja katujen varsilta. Lähtö uimahallin edestä, jossa jaetaan<br />roskapihtejä ja jätesäkkejä. Osallistujille aamukahvit ja iltapäivällä<br />grillimakkarat. Tervetuloa!</p><br /><br /><p><strong><em>Siistii asuu<br />Myrtsissä!</em></strong></p><br> <br /><br />  Visit event in our website: <a href='https://tapahtumainfo.fi/tapahtuma/2026/04/myyrmaen-roskatalkoot/441760'>Tapahtumainfo.fi</a></body></html>
END:VEVENT
END:VCALENDAR
