BEGIN:VCALENDAR
VERSION:2.0
PRODID:-//tapahtumainfo.fi//NONSGML Spring Roll -nykytaidefestivaali 7.-16.5.2026//EN
METHOD:REQUEST
BEGIN:VEVENT
UID:20260419T221608-1136033566-tapahtumainfo.fi
DTSTAMP:20260419T221608
DTSTART:20260507T190000Z
DTEND:20260507T020000Z
LOCATION:Nykytaidetila Kutomo
SUMMARY:Spring Roll -nykytaidefestivaali 7.-16.5.2026
DESCRIPTION:<html><head></head><body><br> <br /><br />  Visit event in our website: <a href='https://tapahtumainfo.fi/tapahtuma/2026/05/spring-roll-nykytaidefestivaali-7-16-5-2026/441765'>Tapahtumainfo.fi</a></body></html>
END:VEVENT
END:VCALENDAR
