BEGIN:VCALENDAR
VERSION:2.0
PRODID:-//tapahtumainfo.fi//NONSGML Spring Roll -nykytaidefestivaali: Maya Oliva: In perpetual blooming, despite the gods//EN
METHOD:REQUEST
BEGIN:VEVENT
UID:20260419T221140-1200790173-tapahtumainfo.fi
DTSTAMP:20260419T221140
DTSTART:20260507T190000Z
DTEND:20260507T020000Z
LOCATION:Nykytaidetila Kutomo
SUMMARY:Spring Roll -nykytaidefestivaali: Maya Oliva: In perpetual blooming, despite the gods
DESCRIPTION:<html><head></head><body><h1>Spring Roll: Maya Oliva: In perpetual blooming, despite the gods</h1><p>In English below!</p><p><a href="https://www.ehka.net/spring-roll-in-perpetual-blooming-despite-the-gods" title="" target=""><em>I</em><em>n perpetual blooming, despite the gods</em></a> kanavoi ooppera-alkusoiton olemuksellista luonnetta – hetkeä ennen sanaa, sen idullisessa, puhkeamassa olevassa muodossa.</p><p>Esitys ammentaa inspiraationsa teksteistä, kuten <b>Maria Magdaleenan</b> evankeliumin kuudesta kadonneesta aloitussivusta sekä muinaisesta runosta <em>The Thunder, Perfect Mind</em>, jossa tuntematon kirjoittaja puhuu moninaisuuksien olennosta: hän on sekä hiljaisuus että ääni. Hän on portto ja pyhä nainen, morsian ja sulhanen. Hän on hän (she), herra (the lord) ja synnin juuri.</p><p>Tanssijan kehosta tulee ajan halki kulkeneen naisen paradoksien kantaja ja asuttaja. Henkiolento, mukanaan äänettömyys, joka on yhtä aikaa ikiaikainen ja tässä hetkessä läsnä. Elinvoima virtaa läpi, muuttaa muotoaan taukoamatta ja elpyy kerta toisensa jälkeen, hellittämättä.</p><p><b>Esitys Nykytaidetila Kutomolla osana <a href="https://www.ehka.net/spring-roll-2026">Spring Roll 2026</a> -festivaalia<br>to 7.5.2026 klo 19</b></p><p><b>Liput: 25/15 €<br><a href="https://holvi.com/shop/ehkatuotanto/product/df7bdb651eb08eb282ec4024c9849244/">Osta lippuja</a></b></p><p>Koreografia ja esitys: Maya Oliva<br>Äänisuunnittelu: Atte Kantonen<br>Valosuunnittelu: Saana Volanen<br>Pukusuunnittelu: Meri Craig<br>Tuotanto: Centro Nazionale di Produzione della Danza Virgilio Sieni, Danse Dense, MigraMenti ja Maya Oliva<br>Vierailuesityksen tuotanto: Ehkä-tuotanto ja Maya Oliva, yhteistyössä Läntinen tanssin aluekeskus<br>Residenssit: Centro Nazionale di Produzione della Danza Virgilio Sieni (Firenze), Ehkä-tuotanto/Nykytaidetila Kutomo (Turku) ja MigraMenti (Badolato)<br>Tukijat: Suomen Kulttuurirahasto ja Taiteen edistämiskeskus<br>Demot: 22.10.2023 DNAppunti coreografici/Romaeuropa Festival, Rooma ja 17.11.2023 UrbanApa x Ateneum -festivaali, Helsinki<br>Ensi-ilta: 15.10.2025 Cango Cantieri Goldonetta, Firenze<br>Kieli: englanti<br>Kesto: 1 h<br>Kuva: Giulia Lenzi</p><p>Festivaalilla noudatetaan Ehkä-tuotannon <a href="https://www.ehka.net/content/uploads/2023/01/turvallisemman-tilan-ohjeet-2023.pdf">turvallisemman tilan ohjeistusta</a>. Valitettavasti Nykytaidetila Kutomon tilat eivät ole esteettömät: rakennuksessa on portaita eikä siellä ole esteetöntä wc-tilaa.</p><p>--</p><p></p><h2>Spring Roll: Maya Oliva: In perpetual blooming, despite the gods</h2><p><em>I<a href="https://www.ehka.net/spring-roll-in-perpetual-blooming-despite-the-gods" title="" target="">n perpetual blooming, despite the gods</a></em> is a study on the channelling of the energetic charge of an operatic prelude. A fascination with this vehicle and its potential: the moment before the word, in its germinal state, of blooming.</p><p>The performance is inspired by texts such as the first six missing pages of the Gospel according to Mary Magdalene, or the ancient poem <em>The Thunder, Perfect Mind</em>, where the unknown writer claims a being of multiplicities: being the silence and the loudness. Being the whore and the holy woman, the bride and the groom. Being “she, the lord” and, at the same time, the root of sin.</p><p>In the suspended temporal space of the performance, the dancer’s body becomes the conduit and container of a woman catapulted through time. Inhabiting the body of paradoxes, she arrives as a spirit, carrying within herself a lack of voice that is at once age-old and present. A vital force advancing through, continuously morphing, transforming, relentlessly blooming, despite adversity.</p><p><b>Performance at Contemporary Art Space Kutomo as part of the <a href="https://www.ehka.net/spring-roll-2026">Spring Roll 2026</a> festival<br>Thu 7.5.2026 at 19</b></p><p><b>Tickets: 25/15 €<br><a href="https://holvi.com/shop/ehkatuotanto/product/df7bdb651eb08eb282ec4024c9849244/">Buy tickets</a></b></p><p>Choreography and performance: Maya Oliva<br>Sound design: Atte Kantonen<br>Lighting design: Saana Volanen<br>Costume design: Meri Craig <br>Production: Centro Nazionale di Produzione della Danza Virgilio Sieni, Danse Dense, MigraMenti and Maya Oliva<br>Production of the guest performance: Ehkä-production and Maya Oliva, in collaboration with the Regional Dance Centre of Western Finland<br>Residencies: Centro Nazionale di Produzione della Danza Virgilio Sieni (Florence), Ehkä-production/Contemporary Art Space Kutomo (Turku) and MigraMenti (Badolato)<br>Supporters: Arts Promotion Centre Finland and Finnish Cultural Foundation<br>Demos: 22.10.2023 DNAppunti coreografici/Romaeuropa Festival, Rome and 17.11.2023 UrbanApa x Ateneum festival, Helsinki<br>Premiere: 15.10.2025 Cango Cantieri Goldonetta, Florence<br>Language: English<br>Duration: 1 h<br>Photo: Giulia Lenzi</p><p>The festival follows Ehkä-production’s <a href="https://www.ehka.net/content/uploads/2023/01/turvallisemman-tilan-ohjeet-2023.pdf">safer space guidelines</a>. Unfortunately, the space at Contemporary Art Space Kutomo is not fully accessible: there are stairs, and no accessible toilets at the venue.</p> <br /><br />  Visit event in our website: <a href='https://tapahtumainfo.fi'>Tapahtumainfo.fi</a></body></html>
END:VEVENT
END:VCALENDAR
