BEGIN:VCALENDAR
VERSION:2.0
PRODID:-//tapahtumainfo.fi//NONSGML Pirjo Hassinen - Spring And Beauty//EN
METHOD:REQUEST
BEGIN:VEVENT
UID:20260422T114543-338495728-tapahtumainfo.fi
DTSTAMP:20260422T114543
DTSTART:20260421T020000Z
DTEND:20260502T020000Z
LOCATION:Galleria Kookos
SUMMARY:Pirjo Hassinen - Spring And Beauty
DESCRIPTION:<html><head></head><body><ol><br />	<ol><br />	<p>Galleria Kookos Studio<br>Pirjo Hassinen<br>Spring And Beauty<br>21.4-2.5.2026</p></ol></ol> <br /><br />  Visit event in our website: <a href='https://tapahtumainfo.fi/tapahtuma/2026/04/pirjo-hassinen-spring-and-beauty/441769'>Tapahtumainfo.fi</a></body></html>
END:VEVENT
END:VCALENDAR
