BEGIN:VCALENDAR
VERSION:2.0
PRODID:-//tapahtumainfo.fi//NONSGML Kevään kimallusta - Spring Sparkle//EN
METHOD:REQUEST
BEGIN:VEVENT
UID:20260423T125935-379848704-tapahtumainfo.fi
DTSTAMP:20260423T125935
DTSTART:20260421T020000Z
DTEND:20260502T020000Z
LOCATION:Galleria Kookos
SUMMARY:Kevään kimallusta - Spring Sparkle
DESCRIPTION:<html><head></head><body><h1>Kevään kimallusta – Spring Sparkle</h1><h3>21.4.-2.5.2026</h3><p><strong>Vernissage 21.4.2026 6-8pm</strong></p><p>Kevät saa usein seurakseen erilaisia vertauskuvallisia ja positiivisia mielikuvia.<br>Luonto kurkottaa kohti valoa ja oikaisee itsensä kohtamaan vahvoja tunteita ja suuria ajatuksia.<br>Kevät on uusiutumisen ja heräämisen aikaa, joka nostaa esiin tuoreutta ja raikkautta, sekä<br>keveyttä ja vallattomuutta askeliin ja mieleen.<br>Kevät on antaa myös luvan nähdä asioita toisin ja rikastuttaa sillä maailmaa myös taiteen piirissä.</p><p>***</p><p>Spring is often accompanied by various metaphorical and positive images.<br>Nature reaches out towards the light and straightens itself to face strong emotions and big<br>thoughts.<br>Spring is a time of renewal and awakening, which brings out freshness and freshness, as well as<br>lightness and ease in steps and mind.<br>Spring is also about giving permission to see things differently and thereby enriching the world,<br>also in the sphere of art.</p><p>Artists:<br>Sanna Ahonen<br>Heidi Halonen<br>Seija Satokangas<br>Mirva Siniranta<br>Syrilla Valtokivi</p> <br /><br />  Visit event in our website: <a href='https://tapahtumainfo.fi/tapahtuma/2026/04/kevaan-kimallusta-spring-sparkle/441770'>Tapahtumainfo.fi</a></body></html>
END:VEVENT
END:VCALENDAR
