BEGIN:VCALENDAR
VERSION:2.0
PRODID:-//tapahtumainfo.fi//NONSGML Neljä pientä annosta//EN
METHOD:REQUEST
BEGIN:VEVENT
UID:20260423T134355-662150810-tapahtumainfo.fi
DTSTAMP:20260423T134355
DTSTART:20261126T180000Z
DTEND:20261126T020000Z
LOCATION:Alvar
SUMMARY:Neljä pientä annosta
DESCRIPTION:<html><head></head><body><b>Seinäjoen kaupunginteatteri</b><br /><b>Alvar Aallon katu 12, 60100 Seinäjoki</b><br /><br />4 PIENTÄ ANNOSTA <br /><br />Yleisön rakastama esitys jo vuodesta 2013!<br />Musiikkikomedia 4 Pientä Annosta sisältää<br />illallisen yhdelle ja kolme muuta ratkiriemukasta<br />elämystä.<br /><br />Martti Suosalo eläytyy rooleihin hovimestarista<br />nuotinkääntäjään ja Iiro Rantala<br />pianopedagogista sankarisolistiin. Lotta Kuusisto<br />huolehtii proseduureista. Yleisön suosikkiesitystä<br />on esitetty täysille katsomoille niin Suomessa kuin<br />ympäri Eurooppaakin.<br /><br />Neljästä hulvattomasta annoksesta ensimmäisen<br />tarjoilee Suosalon taipuisa roolihahmo Arvo<br />Savela, joka on näyttelijän alter ego: jäyhä<br />suomalainen perusmies, joka ei todellakaan ole<br />mikään puheiden pitäjä.<br /><br />Toinen annos taas nautitaan flyygelin äärellä, kun<br />yleisö pääsee mukaan Iironin pianokouluun.<br />Roisilla huumorilla sävytetty pikakoulutus vie<br />pianonsoiton saloihin sekä flyygelin historiaan.<br />Illallinen yhdelle puolestaan on uudenvuoden TV-klassikko vuodelta 1963. Suomessakin<br />kulttimaineessa olevassa sketsissä iäkäs Sofie-neiti juhlistaa syntymäpäiviään enemmän ja<br />enemmän humaltuvan hovimestarinsa<br />avustuksella.<br /><br />Esityksen päättää Rantalan ja Suosalon hulvaton<br />Nuotinkääntäjä-sketsi, jossa maailmankuulu<br />neuvostoliittolainen maestro Vladimir<br />Ashkipäivässä yrittää tulkita Tsaikovskin<br />Pianokonserttoa nro 1. mutta nuotinkäännöissä<br />tapahtuu aina jotain kummallista.<br /><br />Martt Suosalo, näyttelijä<br />Lotta Kuusisto, näyttelijä<br />Iiro Rantala, piano<br /><br />Freddie Frintonin ”Illallinen yhdelle”<br />esitysoikeuksia valvoo<br />Nordic Drama Corner Oy<br /> <br /><br />  Visit event in our website: <a href='https://tapahtumainfo.fi/tapahtuma/2026/11/nelja-pienta-annosta/441772'>Tapahtumainfo.fi</a></body></html>
END:VEVENT
END:VCALENDAR
