BEGIN:VCALENDAR
VERSION:2.0
PRODID:-//tapahtumainfo.fi//NONSGML Syskonen på Arstu//EN
METHOD:REQUEST
BEGIN:VEVENT
UID:20260422T063617-2021355105-tapahtumainfo.fi
DTSTAMP:20260422T063617
DTSTART:20260719T190000Z
DTEND:20260719T020000Z
LOCATION:Arstu hembygdsgård
SUMMARY:Syskonen på Arstu
DESCRIPTION:<html><head></head><body>- en sommarfars!<br /><br />För syskonen Finnback har tiden stått stilla i 1960-talets Nyby,Petalax. Utanför rusar världen förbi och det blir inte bättre av att äldsta brodern gifter sig... Förväxlingar, hästar som försvinner och hejdlösa missförstånd. <br /><br />Premiär 2.7 kl. 19.00<br /><br />Biljett 22 €<br />Pensionär 20 €<br />Barn 4-16 år 12 €<br />Barn under 4 år som sitter i famnen gratis<br />Gruppbiljett 17 €, minimi 25 personer<br /><br />Kom, skratta tills du får träningsvärk och njut av en fantastisk föreställning och äkta syskonkärlek!<br /><br />Längd 2,5 h inklusive paus<br />I priserna ingår pausservering och programblad<br />Meddela ev. specialdiet på "tilläggsinformation"<br /><br />Förköpet på nätet stängs tre timmar före respektive föreställning. Ev. bokningar ska vara uthämtade på förhand. <br /><br />  Visit event in our website: <a href='https://tapahtumainfo.fi/tapahtuma/2026/07/syskonen-pa-arstu/441773'>Tapahtumainfo.fi</a></body></html>
END:VEVENT
END:VCALENDAR
