BEGIN:VCALENDAR
VERSION:2.0
PRODID:-//tapahtumainfo.fi//NONSGML Rödluvan//EN
METHOD:REQUEST
BEGIN:VEVENT
UID:20260422T131037-1358974833-tapahtumainfo.fi
DTSTAMP:20260422T131037
DTSTART:20260628T170000Z
DTEND:20260628T020000Z
LOCATION:Finns sommarteater
SUMMARY:Rödluvan
DESCRIPTION:<html><head></head><body>Skådespelaren och regissören Johan Aspelin står bakom den nya familjemusikalen ”Rödluvan”, som får sitt uruppförande på Finns sommarteater i Esbo. Sångtexterna är skrivna av Pasi Hiihtola från den populära barnmusikgruppen Sås och Kopp och musiken har han gjort i samarbete med Mike Grönroos. Pjäsen spelas hela juni med premiär 4.6 kl. 18.<br /><br /><br />Biljetter 20 €<br />Barn 10 € (under 12 år)<br />Under 4 år utan sittplats gratis<br />Familjebiljett (2 barn+ 2 vuxna) 52 €<br />Gruppbiljetter, minst 25 personer 19 € / 9€<br />Gruppbiljetter endast via arrangören.<br />Early bird hela april 19 € / 9 € -Endast köp!<br />Biljettpriset inkluderar programblad och serviceavgift<br /><br />Längd 2 h, 1 paus<br /><br />- "Jag ville skapa en berättelse där fantasin får ta plats och överraska publiken", säger dramaturgen och regissören Johan Aspelin.<br /><br />Publiken får följa med in i sagans värld och tack vare scenografen Tage Stam förvandlas scenen framför publikens ögon till en sagoskog, blomsteräng, vargens grotta samt givetvis mormors stuga. Pasi Hiihtolas musik är fartfylld, medryckande och var nominerad till årets barnskiva 2025. <br /><br />  Visit event in our website: <a href='https://tapahtumainfo.fi/tapahtuma/2026/06/rodluvan/441774'>Tapahtumainfo.fi</a></body></html>
END:VEVENT
END:VCALENDAR
