BEGIN:VCALENDAR
VERSION:2.0
PRODID:-//tapahtumainfo.fi//NONSGML Komediafestivaali On The Road//EN
METHOD:REQUEST
BEGIN:VEVENT
UID:20260423T105536-2043284739-tapahtumainfo.fi
DTSTAMP:20260423T105536
DTSTART:20260808T180000Z
DTEND:20260808T020000Z
LOCATION:Törnävän kesäteatteri
SUMMARY:Komediafestivaali On The Road
DESCRIPTION:<html><head></head><body><b>Seinäjoen kaupunginteatteri</b><br /><b>Alvar Aallon katu 12, 60100 Seinäjoki</b><br /><br />Lavalle astelevat Niko Kivelä, Ilari Johansson ja Ali Jahangiri. <br /><br />Kolme kokenutta stand up -ammattilaista, jotka eivät pelkää sanoa ääneen asioita, joita moni ajattelee hiljaa mielessään. Illan aikana käydään läpi elämän pieniä katastrofeja, suomalaisen arjen kummallisuuksia ja niitä hetkiä, jolloin miettii miksi ihmeessä tämäkin tapahtui.<br /> <br /><br />  Visit event in our website: <a href='https://tapahtumainfo.fi/tapahtuma/2026/08/komediafestivaali-on-the-road/441776'>Tapahtumainfo.fi</a></body></html>
END:VEVENT
END:VCALENDAR
