BEGIN:VCALENDAR
VERSION:2.0
PRODID:-//tapahtumainfo.fi//NONSGML FATBOY//EN
METHOD:REQUEST
BEGIN:VEVENT
UID:20260421T033846-1289384264-tapahtumainfo.fi
DTSTAMP:20260421T033846
DTSTART:20260912T190000Z
DTEND:20260912T020000Z
LOCATION:Ritz, Parvi-K18
SUMMARY:FATBOY
DESCRIPTION:<html><head></head><body>FATBOY juhlii 30-vuotista taivaltaan - uusi albumi ja kiertue käynnistyvät 2026 Ruotsin rockabilly-kuninkaisiin lukeutuva FATBOY juhlii 30-vuotista uraansa vuonna 2026. Vuonna 1996 perustettu yhtye on tunnettu tinkimättömästä energiastaan, vahvasta yhteissoitostaan ja kyvystään luoda aitoa rock’n’roll-taikaa lavalla.<br /><br />Ritz 12.9. klo 19.00<br /><br />Lippu 35 €<br /><br />Kokoonpano:<br />Thomas Pareigis - laulu, kitara<br />Hannu Kiviaho - kitara<br />Jan Lissnils - steel-kitara, koskettimet<br />Johan Svensson - rummut, taustalaulu<br />Thomas “Kakan” Schuldt - kontrabasso, sähköbasso, taustalaulu <br /><br />  Visit event in our website: <a href='https://tapahtumainfo.fi/tapahtuma/2026/09/fatboy/441777'>Tapahtumainfo.fi</a></body></html>
END:VEVENT
END:VCALENDAR
