BEGIN:VCALENDAR
VERSION:2.0
PRODID:-//tapahtumainfo.fi//NONSGML Aarne Alligaattori & Viidakkorumpu//EN
METHOD:REQUEST
BEGIN:VEVENT
UID:20260422T004641-657228762-tapahtumainfo.fi
DTSTAMP:20260422T004641
DTSTART:20260628T140000Z
DTEND:20260628T020000Z
LOCATION:Ramsholmen
SUMMARY:Aarne Alligaattori & Viidakkorumpu
DESCRIPTION:<html><head></head><body>Ramsholmens Folkpark su 28.6.<br /><br />Lippu 21 €<br />Ilmainen sisäänpääsy alle 2 vuotiaille lapsille jotka istuvat sylissä<br />Lippu portilla 22 €<br /><br />Päivän aikataulu ja ohjelma:<br />13:45-14:00 Professori BLUFFO. Esiintyy lavalla <br />14:00-15.00 Aarne Alligaattori ja viidakkorumpu esiintyy. Esitys suomenkielellä.<br />(12.30-13.15 Arne Alligator och Djungeltrumman på svenska)<br /><br />Pomppulinna - Iso<br />Ludde Entertainment Snackbar tarjoilee suolaisia ja makeita herkkuja puistossa päivän aikana.<br /> <br /><br />  Visit event in our website: <a href='https://tapahtumainfo.fi/tapahtuma/2026/06/aarne-alligaattori-viidakkorumpu/441780'>Tapahtumainfo.fi</a></body></html>
END:VEVENT
END:VCALENDAR
