BEGIN:VCALENDAR
VERSION:2.0
PRODID:-//tapahtumainfo.fi//NONSGML Pontikkaooppera//EN
METHOD:REQUEST
BEGIN:VEVENT
UID:20260424T112157-1997935128-tapahtumainfo.fi
DTSTAMP:20260424T112157
DTSTART:20260704T150000Z
DTEND:20260704T020000Z
LOCATION:Vaiveron myllytila
SUMMARY:Pontikkaooppera
DESCRIPTION:<html><head></head><body>Pontikkaooppera on Teatteri Mansikkapaikan 10-vuotisjuhlavuoden väkevä kesäteatteriproduktio, joka sukeltaa suomalaisen viinanpolton, salaisuuksien ja alkoholikulttuurin ytimeen vakavasti ja vimmalla, mutta pilke silmäkulmassa. Vaiveron myllytilan maalaismaisemassa nähtävä musiikillinen kansannäytelmä yhdistää huumorin, yhteisöllisyyden ja kantaaottavan otteen ja nostaa pannun porisemaan tavalla, joka kuuluu ja tuntuu. Poutasäällä ulkoilmassa, sadesäällä esiinnymme Vaiveron myllytilan ladossa.<br /><br />Ensi-ilta 9.6. klo 18.30<br /><br />Lippu 25 €<br />Eläkeläinen 20 €<br />Opiskelija, alle 18-vuotias, varusmies 17 €<br />Ryhmälippu 17 € / minimäärä 10 henkeä<br /><br />Kesto 2,5h<br />Esityksessä on väliaika, jolloin kahvio on auki. <br /><br />  Visit event in our website: <a href='https://tapahtumainfo.fi/tapahtuma/2026/06/pontikkaooppera/441781'>Tapahtumainfo.fi</a></body></html>
END:VEVENT
END:VCALENDAR
