BEGIN:VCALENDAR
VERSION:2.0
PRODID:-//tapahtumainfo.fi//NONSGML Jakkurokki 2026//EN
METHOD:REQUEST
BEGIN:VEVENT
UID:20260423T130247-1104172629-tapahtumainfo.fi
DTSTAMP:20260423T130247
DTSTART:20260606T193000Z
DTEND:20260606T020000Z
LOCATION:Laihian Nuorisoliitto
SUMMARY:Jakkurokki 2026
DESCRIPTION:<html><head></head><body>Lämminhenkinen kyläfestari, jossa talkoohenki, yhteisöllisyys ja livemusiikki kohtaavat.<br /><br />Laihian Nuorisoliiton pihapiirissä Jakkulassa lauantaina 6.6.2026 järjestetään jälleen yhden päivän festarit kaikille yli 18-vuotiaille musiikin sekä kesän ystäville.<br /><br />19.30 Portit aukeavat<br />20.00 Esa Eloranta<br />21.30 Juhana Haukkala<br />23.00 Turo’s Hevi Gee<br />00.30 Kuningas Pähkinä & Setä Tamu<br />01.30 Valomerkki <br /><br />Lippu 25 €<br /><br />Musiikin lisäksi luvassa on ruokaa, juomaa ja paljon tuttuja kasvoja. <br /><br />  Visit event in our website: <a href='https://tapahtumainfo.fi/tapahtuma/2026/06/jakkurokki-2026/441783'>Tapahtumainfo.fi</a></body></html>
END:VEVENT
END:VCALENDAR
