BEGIN:VCALENDAR
VERSION:2.0
PRODID:-//tapahtumainfo.fi//NONSGML Meistä kukaan//EN
METHOD:REQUEST
BEGIN:VEVENT
UID:20260425T235758-1174571763-tapahtumainfo.fi
DTSTAMP:20260425T235758
DTSTART:20260524T120000Z
DTEND:20260524T020000Z
LOCATION:Vernissasali
SUMMARY:Meistä kukaan
DESCRIPTION:<html><head></head><body>Tikkurilan Teatterikoulun Esmeralda-ryhmä esittää:<br /><br />Meistä kukaan<br /><br />Esmeralda-ryhmän perusopintojen päättötyössä kymmenen nuorta ajautuu keskelle kohtalokasta tapahtumaketjua. Meistä kukaan on Ilja Mäkelän kirjoittama psykologinen trilleri valheesta, vastuusta ja syyllisyydestä. <br /><br />Eräs ilta kallion jyrkänteellä menee peruuttamattomasti pieleen. Seuraavana aamuna metsästä tulee ystäväporukan "kokoushuone". Tapahtuneesta rakennetaan ilmatiivis tarina, repliikkejä harjoitellaan poliisia varten, ja vaikenemisesta tehdään sääntö. Kun paine kasvaa ja kysymykset lähestyvät, nuoret joutuvat valitsemaan, kuinka pitkälle he ovat valmiita menemään välttääkseen seuraukset.<br /><br />Nuortennäytelmä tutkii, miten ryhmäpaine ja joukkoajattelu sumentavat moraalisia rajoja ja miten "hyvä tarkoitus" voi kääntyä vallankäytöksi. Se käsittelee myös toisen rajojen rikkomista, ei-toivottua huomiota ja häpeää sekä sitä, miten katse, maine ja sukupuolittuneet odotukset muovaavat nuorten asemaa ja rooleja. Näytelmä on ajankohtainen kuvaus siitä, mitä tapahtuu, kun kukaan ei uskalla pysähtyä ja sanoa vastaan, vaikka porukka on jo lähtenyt väärään suuntaan. Kuka kantaa vastuun, jos meistä kukaan ei yksin sitä tehnyt? <br /><br />Tervetuloa katsomaan Esmeralda-ryhmän esitystä, joka kiristyy kohtaus kohtaukselta eikä päästä irti ennen viimeistä hiljaisuutta.<br /><br />Esitystä ei suositella alle 13-vuotiaille.<br /><br />ESITYKSET:<br />MA 27.4. klo 19.30<br />MA 11.5. klo 19.30<br />SU 24.5. klo 12.00 <br /><br />Käsikirjoitus ja ohjaus: Ilja Mäkelä<br />Puvustus: Anu Kamppila<br /><br />Rooleissa:<br />Esmeralda-ryhmän oppilaat<br /><br />Esitys on Kulttuuritehdas Vernissan Vernissasalissa, 1. krs (osoite Tikkurilantie 36, 01300 Vantaa)<br /><br />Esityksen kesto: n. 1 h 20 min<br /><br />Esityksiin vain ennakkoliput 12 € / kpl. Alle 18-vuotiaat pääsevät esityksiin maksutta. Alle 18-vuotiaat voivat lunastaa vapaalipun NetTicketin ennakkomyynnistä. <br /><br />  Visit event in our website: <a href='https://tapahtumainfo.fi/tapahtuma/2026/04/meista-kukaan/441784'>Tapahtumainfo.fi</a></body></html>
END:VEVENT
END:VCALENDAR
