BEGIN:VCALENDAR
VERSION:2.0
PRODID:-//tapahtumainfo.fi//NONSGML Aurora Music Forum 2026//EN
METHOD:REQUEST
BEGIN:VEVENT
UID:20260419T232713-409926208-tapahtumainfo.fi
DTSTAMP:20260419T232713
DTSTART:20260926T100000Z
DTEND:20260926T020000Z
LOCATION:Lokstallet på Wärtsiläområdet
SUMMARY:Aurora Music Forum 2026
DESCRIPTION:<html><head></head><body>Aurora Music Forum är en nordisk musikbranschkongress som arrangeras i Vasa den 25-26 september 2026. Forumet samlar musikstuderande, artister, låtskrivare, producenter, musikutbildare och branschaktörer från hela Norden för två dagar fyllda med inspiration, nätverkande och kompetensutveckling.<br /> <br />Tvådagarsbiljett: ordinarie pris 129 €, ungdom (under 29 år)/studerande 89 €<br />Endagsbiljett: ordinarie pris 79€, ungdom (under 29 år)/studerande 59 €<br /><br />20% rabatt vid DUNK-medlemskap, kontakta info@dunk.fi för rabattkod<br />För gruppbiljetter, kontakta DUNK på info@dunk.fi.<br /> <br />Kongresspasset berättigar till inträde på kongressen och alla livekonserter men garanterar inte en plats ifall en konsert eller spelställe är fullsatt. Balkongen på Ritz är reserverad för kongressdeltagare tills den är fullsatt. <br /> <br />Förköpet avslutas 24.9.2026 kl. 16.00<br /> <br />Välkommen till en inspirerande mötesplats för framtidens musikliv! <br /><br />  Visit event in our website: <a href='https://tapahtumainfo.fi/tapahtuma/2026/09/aurora-music-forum-2026/441785'>Tapahtumainfo.fi</a></body></html>
END:VEVENT
END:VCALENDAR
