BEGIN:VCALENDAR
VERSION:2.0
PRODID:-//tapahtumainfo.fi//NONSGML Månadens Nordiska Film: INGENTING Å LE AV (2021)//EN
METHOD:REQUEST
BEGIN:VEVENT
UID:20260420T070132-1507639516-tapahtumainfo.fi
DTSTAMP:20260420T070132
DTSTART:20260521T170000Z
DTEND:20260521T020000Z
LOCATION:Kulturhuset Fiini
SUMMARY:Månadens Nordiska Film: INGENTING Å LE AV (2021)
DESCRIPTION:<html><head></head><body>Månadens Nordiska Film: INGETING Å LE AV (Peter Næss, Norja 2021)<br /><br />Koominen tarina elämän vakavasti ottamisen arvosta. Kasper Berntsen (40) on kaiken haluamansa saanut, menestyksekäs stand-up koomikko. <br /><br />Oslon parhailla klubeilla vakiokeikkoja vetävä Kasper viihtyy parrasvaloissa ja hänellä on täydellinen tyttöystävä. Kunnes eräänä päivänä ote lipeää ja kaikki muuttuu. <br /><br />---<br />Torstai 21.5. klo 17.00<br />Liput 5 €<br />Kesto: 103 min<br />Kieli: norja, tekstitys: suomi<br />Ikäsuositus K12<br /><br />Järjestäjä: SKiB <br /><br />  Visit event in our website: <a href='https://tapahtumainfo.fi/tapahtuma/2026/05/manadens-nordiska-film-ingenting-a-le-av-2021/441788'>Tapahtumainfo.fi</a></body></html>
END:VEVENT
END:VCALENDAR
