BEGIN:VCALENDAR
VERSION:2.0
PRODID:-//tapahtumainfo.fi//NONSGML Rämälä//EN
METHOD:REQUEST
BEGIN:VEVENT
UID:20260422T191001-908767421-tapahtumainfo.fi
DTSTAMP:20260422T191001
DTSTART:20260524T160000Z
DTEND:20260524T020000Z
LOCATION:Vernissasali
SUMMARY:Rämälä
DESCRIPTION:<html><head></head><body>Tikkurilan Teatterikoulun Ohjaajantyö-ryhmä esittää:<br /><br />Rämälä<br /><br />Kun mikään ei tunnu enää todelta, on pakko keksiä tarina.<br /><br />Tikkurilan Teatterikoulun syventävien opintojen Ohjaajantyön ryhmä esittää oman tulkintansa Philip Ridleyn näytelmästä Rämälä.<br /><br />Jonkin suuren katastrofin jälkeen keskellä talon raunioita kokoontuu joukko muistinsa menettäneitä nuoria. Kun todellisuus ei tarjoa turvaa, he alkavat kertoa tarinaa. Sadusta kasvaa maailma, jossa kuninkaalliset, lohikäärmeet ja velhot syntyvät hahmojen omista peloistaan, toiveistaan ja tarpeestaan tulla nähdyksi.<br /><br />Yhdessä rakennettu kertomus on yhtä aikaa leikkiä, selviytymistä ja vallankäyttöä. Kuka saa päättää tarinan suunnan? Kenen ääni kuuluu? Ja mitä tapahtuu, kun tarina alkaa elää omaa elämäänsä?<br /><br />11-henkinen työryhmä on syventynyt lukuvuoden aikana ohjaajantyön tekniikoihin ja työkaluihin. Esitys on heidän yhteinen, ohjauksellinen tutkimusmatkansa - näyttämöllinen kokonaisuus, jossa jokainen tekijä on ollut rakentamassa maailmaa alusta alkaen.<br /><br />Rämälä on visuaalinen, fyysinen ja mielikuvituksellinen esitys, joka kuljettaa katsojan satujen ja todellisuuden rajapintaan.<br /><br />Esitystä ei suositella alle 12-vuotiaille.<br /><br />ESITYS:<br />SU 24.5. klo 16.00 <br /><br />Käsikirjoitus: Philip Ridley<br />Suomennos: Snoopi Siren<br />Ohjaus, puvustus, lavastus, ääni- ja valosuunnittelu: Ohjaajantyön ryhmän oppilaat<br />Juliste: Sonja Mäntylä<br />Ohjaava opettaja: Ilja Mäkelä<br /><br />Rooleissa:<br />Esmeralda-ryhmän oppilaat<br /><br />Esitys on Kulttuuritehdas Vernissan Vernissasalissa, 1. krs (osoite Tikkurilantie 36, 01300 Vantaa)<br /><br />Esityksen kesto: n. 1 h 15 min<br /><br />Esityksiin vain ennakkoliput 12 € / kpl. Alle 18-vuotiaat pääsevät esityksiin maksutta. Alle 18-vuotiaat voivat lunastaa vapaalipun NetTicketin ennakkomyynnistä. <br /><br />  Visit event in our website: <a href='https://tapahtumainfo.fi/tapahtuma/2026/05/ramala/441789'>Tapahtumainfo.fi</a></body></html>
END:VEVENT
END:VCALENDAR
