BEGIN:VCALENDAR
VERSION:2.0
PRODID:-//tapahtumainfo.fi//NONSGML Ella ja kaverit salaisessa palveluksessa//EN
METHOD:REQUEST
BEGIN:VEVENT
UID:20260419T235219-1220057357-tapahtumainfo.fi
DTSTAMP:20260419T235219
DTSTART:20260419T120000Z
DTEND:20260419T020000Z
LOCATION:Vinssisali
SUMMARY:Ella ja kaverit salaisessa palveluksessa
DESCRIPTION:<html><head></head><body>Tikkurilan Teatterikoulun Gogol-ryhmä esittää:<br /><br />Ella ja kaverit salaisessa palveluksessa<br /><br />Ella ja kaverit salaisessa palveluksessa on vauhdikas ja hyväntuulinen seikkailu, jossa koulun arki saa yllättäen aivan uuden käänteen. Kun opettaja alkaa käyttäytyä oudosti, Ella ja hänen kaverinsa päättävät selvittää, onko kyseessä salainen agentti, vaarallinen juoni vai vain väärinkäsitys, joka paisuu paisumistaan. Tutkimukset vievät porukan kohti hulvattomia tilanteita, epäilyksiä ja rohkeita päätöksiä - ja lopulta totuus paljastuu tavalla, jota kukaan ei osannut odottaa.<br />Tikkurilan Teatterikoulun Gogol-ryhmä esittää tarinan iloisella energialla ja lämminhenkisellä yhdessä tekemisen otteella. Lopputuloksena on seikkailu, joka naurattaa, jännittää ja muistuttaa, että parhaat salaisuudet ratkeavat kavereiden kanssa.<br /><br />ESITYKSET:<br /><br />LA 18.4. klo 16.00 <br />SU 19.4. klo 12.00<br /><br />Käsikirjoitus: Timo Parvela<br />Dramatisointi: Minna-Stiina Saaristo-Vellinki<br />Ohjaus: Tuukka Tiihonen<br /><br />Rooleissa:<br />Gogol-ryhmän oppilaat<br /><br />Esitys on Kulttuuritehdas Vernissan Vinssisalissa, 3. krs (osoite Tikkurilantie 36, 01300 Vantaa)<br /><br />Esityksen kesto: tarkentuu<br /><br />Esityksiin on vapaaliput, mutta lunastathan silti vapaalippusi NetTicketistä!<br /><br />Näytelmän esitysoikeuksia valvoo Suomen <br />Näytelmäkirjailijat ja Käsikirjoittajat ry.<br /> <br /><br />  Visit event in our website: <a href='https://tapahtumainfo.fi/tapahtuma/2026/04/ella-ja-kaverit-salaisessa-palveluksessa/441792'>Tapahtumainfo.fi</a></body></html>
END:VEVENT
END:VCALENDAR
