BEGIN:VCALENDAR
VERSION:2.0
PRODID:-//tapahtumainfo.fi//NONSGML Kolme//EN
METHOD:REQUEST
BEGIN:VEVENT
UID:20260419T234902-1366818714-tapahtumainfo.fi
DTSTAMP:20260419T234902
DTSTART:20260419T150000Z
DTEND:20260419T020000Z
LOCATION:Vinssisali
SUMMARY:Kolme
DESCRIPTION:<html><head></head><body>Tikkurilan Teatterikoulun Fanny-ryhmä esittää:<br /><br />Kolme<br /><br />Harriet Braunin Kolme on lämmin ja humoristinen näytelmä ihastumisesta, ystävyydestä ja elämän sattumuksista. Kolme erillistä tarinaa kulkee rinnakkain: nuoruuden ensihuuma, arjen kipinät ja hetket, joissa on pakko päättää, uskaltaako seurata sydäntään. Kaikki polut johtavat lopulta samaan konserttiin - hetkeen, jossa jokainen tarina saa oman ratkaisunsa.<br />Tikkurilan Teatterikoulun Fanny-ryhmä tuo näyttämölle raikkaan ja samaistuttavan tulkinnan, jossa nuorten esiintyjien energia ja herkkyys pääsevät loistamaan.<br /><br />ESITYKSET:<br /><br />LA 18.4. klo 19.00<br />SU 19.4. klo 15.00 <br /><br />Käsikirjoitus: Harriet Braun<br />Käännös: Jukka-Pekka Pajunen<br />Ohjaus: Tuukka Tiihonen<br /><br />Rooleissa:<br />Fanny-ryhmän oppilaat<br /><br />Esitys on Kulttuuritehdas Vernissan Vinssisalissa, 3. krs (osoite Tikkurilantie 36, 01300 Vantaa)<br /><br />Esityksen kesto: tarkentuu<br /><br />Esityksiin vain ennakkoliput 12 € / kpl. Alle 18-vuotiaat pääsevät esityksiin maksutta. Alle 18-vuotiaat voivat lunastaa vapaalipun NetTicketin ennakkomyynnistä. <br /><br />  Visit event in our website: <a href='https://tapahtumainfo.fi/tapahtuma/2026/04/kolme/441793'>Tapahtumainfo.fi</a></body></html>
END:VEVENT
END:VCALENDAR
