BEGIN:VCALENDAR
VERSION:2.0
PRODID:-//tapahtumainfo.fi//NONSGML Aikuisten OCR-alkeiskurssi//EN
METHOD:REQUEST
BEGIN:VEVENT
UID:20260422T144507-1999394415-tapahtumainfo.fi
DTSTAMP:20260422T144507
DTSTART:20260428T180000Z
DTEND:20260428T020000Z
LOCATION:OCR
SUMMARY:Aikuisten OCR-alkeiskurssi
DESCRIPTION:<html><head></head><body>Aikuisten OCR-alkeiskurssilla on mahdollisuus tutustua OCR:ään (Obstacle Course Racing) ohjatusti kuuden harjoituskerran ajan. Kurssilla käydään läpi perusesteiden tekniikkaa (mm. monkey bars, rings, verkko). Tule haastamaan itsesi ja kokeilemaan jotain uutta! Kurssi sopii kaikille, jotka haluavat kehittää voimaa, kuntoa ja kestävyyttä - mutta ennen kaikkea pitää hauskaa. <br /><br />Osallistuminen omalla vastuulla.<br /><br />28.4 klo.18<br />Alkeiskurssin kesto 6 viikkoa<br /><br />Hinta: 80€<br />OCR Wasa jäsen: 72€ <br /><br />  Visit event in our website: <a href='https://tapahtumainfo.fi/tapahtuma/2026/04/aikuisten-ocr-alkeiskurssi/441794'>Tapahtumainfo.fi</a></body></html>
END:VEVENT
END:VCALENDAR
