BEGIN:VCALENDAR
VERSION:2.0
PRODID:-//tapahtumainfo.fi//NONSGML DJ Oku Luukkainen//EN
METHOD:REQUEST
BEGIN:VEVENT
UID:20260420T112227-475682088-tapahtumainfo.fi
DTSTAMP:20260420T112227
DTSTART:20260502T020000Z
DTEND:20260502T020000Z
LOCATION:Club B52
SUMMARY:DJ Oku Luukkainen
DESCRIPTION:<html><head></head><body><h3>Clubin stagen valtaa lauantaina 2.5. DJ Oku Luukkainen!</h3><br /><p>DJ Oku Luukkainen on Suomen suosituin ysäri-DJ ja hänet tunnetaan artistiuransa lisäksi pitkästä taipaleestaan radiojuontajana.&nbsp;</p><br /><p>Okun suurimpia hittejä ovat tuplaplatinaa striimannut – Hesaäijän, Erika Vikmanin ja Dannyn kanssa esitetty – 7300 päivää (2019) sekä platinaa striimannut Ysäriboi (feat. Pasi ja Anssi & Portion Boys) (2018). Muita tunnettuja biisejä on Mentävä on, Vedetään yli sekä Haddaway.&nbsp;</p><br /><p>Reippaasti yli 30 miljoonan striimiä kappaleillaan kerännyt DJ toimii parhaillaan 90- ja 2000-luvun hitteihin keskittyvän HitMix-radiokanavan juontajana. Okun energisessä keikkasetissä kuullaan omien biisien lisäksi myös hänen radio-ohjelmissaan paljon soitettua ysäriä sekä millennium lekoja.</p><br /><br /><p>Liput ovelta 25 €.</p><br /><p>***</p><br /><p><strong>Esteettömyys:</strong></p><br /><p><span dir="ltr">Avustaja pääsee tapahtumaan ilmaiseksi avustettavan kanssa </span><span dir="ltr">samalla lipulla: <strong>kyllä</strong> </span><br><span dir="ltr">Tapahtumaan on esteetön pääsy pyörätuolilla: <strong>kyllä</strong> </span><br><span dir="ltr">Tapahtumapaikalla on esteetön WC: <strong>kyllä</strong></span><strong><br></strong></p> <br /><br />  Visit event in our website: <a href='https://tapahtumainfo.fi/tapahtuma/2026/05/dj-oku-luukkainen/441795'>Tapahtumainfo.fi</a></body></html>
END:VEVENT
END:VCALENDAR
