BEGIN:VCALENDAR
VERSION:2.0
PRODID:-//tapahtumainfo.fi//NONSGML Liisa Ihmemaassa//EN
METHOD:REQUEST
BEGIN:VEVENT
UID:20260420T093536-531122751-tapahtumainfo.fi
DTSTAMP:20260420T093536
DTSTART:20260426T150000Z
DTEND:20260426T020000Z
LOCATION:Vinssisali
SUMMARY:Liisa Ihmemaassa
DESCRIPTION:<html><head></head><body>Tikkurilan Teatterikoulun Dario-ryhmä esittää:<br /><br />Liisa Ihmemaassa<br /><br />Liisa Ihmemaassa on mielikuvituksen ilotulitus - seikkailu, jossa tavallinen päivä muuttuu hetkessä hurjaksi matkaksi läpi oudon, hauskan ja täysin arvaamattoman maailman. Liisa putoaa kaninkoloon ja kohtaa joukon kummallisia hahmoja: mm. kiireisen Kanin, arvoituksellisen Hatuntekijän, katoilevan Irvikissan ja valtakuntaansa hallitsevan Herttakuningattaren. Jokainen kohtaaminen vie Liisaa lähemmäs oivallusta siitä, kuka hän on ja mihin kaikkeen hän pystyy.<br />Tikkurilan Teatterikoulun Dario-ryhmä tulkitsee klassikkotarinaa omalla energisellä otteellaan. Esitys yhdistää leikkisyyden, näyttämöllisen rohkeuden ja kutsuu katsojan hyppäämään mukaan Ihmemaan yllätyksiin.<br /><br />ESITYKSET:<br /><br />LA 25.4. klo 19.00 <br />SU 26.4. klo 15.00 <br /><br />Käsikirjoitus: Lewis Carroll<br />Dramatisointi: Tytti Jäppinen<br />Ohjaus: Tuukka Tiihonen<br /><br />Rooleissa:<br />Dario-ryhmän oppilaat<br /><br />Esitys on Kulttuuritehdas Vernissan Vinssisalissa, 3. krs (osoite Tikkurilantie 36, 01300 Vantaa)<br /><br />Esityksen kesto: tarkentuu<br /><br />Esityksiin vain ennakkoliput 12 € / kpl. Alle 18-vuotiaat pääsevät esityksiin maksutta. Alle 18-vuotiaat voivat lunastaa vapaalipun NetTicketin ennakkomyynnistä.<br /><br />Näytelmän esitysoikeuksia valvoo Suomen <br />Näytelmäkirjailijat ja Käsikirjoittajat ry.<br /> <br /><br />  Visit event in our website: <a href='https://tapahtumainfo.fi/tapahtuma/2026/04/liisa-ihmemaassa/441796'>Tapahtumainfo.fi</a></body></html>
END:VEVENT
END:VCALENDAR
