BEGIN:VCALENDAR
VERSION:2.0
PRODID:-//tapahtumainfo.fi//NONSGML Kevät taika//EN
METHOD:REQUEST
BEGIN:VEVENT
UID:20260420T013333-984898035-tapahtumainfo.fi
DTSTAMP:20260420T013333
DTSTART:20260505T173000Z
DTEND:20260505T020000Z
LOCATION:Vinssisali
SUMMARY:Kevät taika
DESCRIPTION:<html><head></head><body>Tikkurilan Teatterikoulun Jotuni-ryhmä esittää:<br /><br />Kevät taika<br /><br />ESITYS:<br /><br />TI 5.5. klo 17.30<br /><br />Ohjaus: Evita Aaltonen<br /><br />Rooleissa:<br />Jotuni-ryhmän oppilaat<br /><br />Esitys on Kulttuuritehdas Vernissan Vinssisalissa, 3. krs (osoite Tikkurilantie 36, 01300 Vantaa)<br /><br />Esityksen kesto: tarkentuu<br /><br />Esityksiin on vapaaliput, mutta lunastathan silti vapaalippusi NetTicketistä! <br /><br />  Visit event in our website: <a href='https://tapahtumainfo.fi/tapahtuma/2026/05/kevat-taika/441797'>Tapahtumainfo.fi</a></body></html>
END:VEVENT
END:VCALENDAR
