BEGIN:VCALENDAR
VERSION:2.0
PRODID:-//tapahtumainfo.fi//NONSGML Liisa Onnelassa//EN
METHOD:REQUEST
BEGIN:VEVENT
UID:20260423T125925-865598177-tapahtumainfo.fi
DTSTAMP:20260423T125925
DTSTART:20260509T120000Z
DTEND:20260509T020000Z
LOCATION:Vinssisali
SUMMARY:Liisa Onnelassa
DESCRIPTION:<html><head></head><body>Tikkurilan Teatterikoulun Federico-ryhmä esittää:<br /><br />Liisa Onnelassa<br /><br />ESITYKSET:<br /><br />TI 5.5. klo 19.00 <br />LA 9.5. klo 12.00 <br /><br />Ohjaus: Evita Aaltonen<br /><br />Rooleissa:<br />Jotuni-ryhmän oppilaat<br /><br />Esitys on Kulttuuritehdas Vernissan Vinssisalissa, 3. krs (osoite Tikkurilantie 36, 01300 Vantaa)<br /><br />Esityksen kesto: tarkentuu<br /><br />Esityksiin vain ennakkoliput 12 € / kpl. Alle 18-vuotiaat pääsevät esityksiin maksutta. Alle 18-vuotiaat voivat lunastaa vapaalipun NetTicketin ennakkomyynnistä. <br /><br />  Visit event in our website: <a href='https://tapahtumainfo.fi/tapahtuma/2026/05/liisa-onnelassa/441798'>Tapahtumainfo.fi</a></body></html>
END:VEVENT
END:VCALENDAR
