BEGIN:VCALENDAR
VERSION:2.0
PRODID:-//tapahtumainfo.fi//NONSGML Icehearts 30-v. juhlakonsertti//EN
METHOD:REQUEST
BEGIN:VEVENT
UID:20260423T130535-1847471309-tapahtumainfo.fi
DTSTAMP:20260423T130535
DTSTART:20260505T020000Z
DTEND:20260505T020000Z
LOCATION:Lumosali
SUMMARY:Icehearts 30-v. juhlakonsertti
DESCRIPTION:<html><head></head><body><h2>Icehearts 30-v. juhlakonsertti: Mikkolan koulun musiikkiluokat, Juha Tapio, Anna Puu ja Kamarikuoro Aménte (joht.Riikka Heinzmann)</h2><br /><p></p><br /><p><br></p><br /><br /><p>Konsertissa väliaika, jossa oppilaat myyvät kahvia ja pientä syötävää. </p><br /><p>Saapumisohje: Lumosali sijaitsee Korsossa juna-aseman vieressä. Kulkuyhteys Helsingistä K-junalla Korsoon noin 30 minuutissa. Tikkurilasta kulkuyhteys K-juna, kesto noin 10 min.</p><br /><p><strong>Esteettömyys:</strong></p><br /><p>Tapahtuman ei ole esteetön pääsy pyörätuolilla.&nbsp;<br>Pyörätuolia käyttävää tai erityistä avustusta tarvitsevaa&nbsp;asiakasta pyydetään olemaan etukäteen yhteydessä sujuvan&nbsp;sisäänpääsyn varmistamiseksi:&nbsp;nelli.niemela@icehearts.fi</p> <br /><br />  Visit event in our website: <a href='https://tapahtumainfo.fi/tapahtuma/2026/05/icehearts-30-v-juhlakonsertti/441802'>Tapahtumainfo.fi</a></body></html>
END:VEVENT
END:VCALENDAR
