BEGIN:VCALENDAR
VERSION:2.0
PRODID:-//tapahtumainfo.fi//NONSGML Punatukkaisten liiga//EN
METHOD:REQUEST
BEGIN:VEVENT
UID:20260420T033342-1090969445-tapahtumainfo.fi
DTSTAMP:20260420T033342
DTSTART:20260519T174500Z
DTEND:20260519T020000Z
LOCATION:Vernissasali
SUMMARY:Punatukkaisten liiga
DESCRIPTION:<html><head></head><body>Tikkurilan Teatterikoulun Julia-ryhmä esittää:<br /><br />Punatukkaisten liiga<br /><br />Punatukkaisten liiga esittelee katsojille salaperäisen arvoituksen, jossa kaikki ei ole sitä miltä ensin vaikuttaa. Kun kaksi punatukkaista kauppiasta pyytää apua etsivätoimiston kolmelta salapoliisilta, alkaa vähitellen paljastua, että oudon työpaikkailmoituksen taakse kätkeytyy paljon enemmän kuin aluksi osataan epäillä. Johtolangat vievät yhä syvemmälle mysteeriin, epäilyttävät hahmot herättävät uusia kysymyksiä ja tutkimukset etenevät kohti jännittävää ratkaisua.<br /><br />Esityksen maailmassa on salapoliisitarinan vetovoimaa: omalaatuisia henkilöitä, outoja sattumuksia, tarkkoja havaintoja ja vähitellen kiristyvää jännitystä. Samalla mukana on huumoria, vauhtia ja mysteerin tunnelmaa, mikä tekee tarinasta elämyksellisen nuorelle yleisölle.  <br /><br />Punatukkaisten liiga on Tikkurilan Teatterikoulun Julia-ryhmän esitys. Julia on P3-tason ryhmä. Näytelmä pohjautuu Arthur Conan Doylen Sherlock Holmes -tarinaan "The Red-Headed League", jonka pohjalta opettaja Ilja Mäkelä on kirjoittanut ryhmälle oman salapoliisitarinan.<br /><br />ESITYS:<br /><br />TI 19.5. klo 17.45 <br /><br />Alkuperäistarina: Arthur Conan Doyle<br />Dramaturgi: Ilja Mäkelä<br />Puvustus: Anu Kamppila ja työryhmä<br /><br />Rooleissa:<br />Julia-ryhmän oppilaat<br /><br />Esitys on Kulttuuritehdas Vernissan Vernissasalissa, 1. krs (osoite Tikkurilantie 36, 01300 Vantaa)<br /><br />Esityksen kesto: n. 30 min<br /><br />Esityksiin on vapaaliput, mutta lunastathan silti vapaalippusi NetTicketistä! <br /><br />  Visit event in our website: <a href='https://tapahtumainfo.fi/tapahtuma/2026/05/punatukkaisten-liiga/441804'>Tapahtumainfo.fi</a></body></html>
END:VEVENT
END:VCALENDAR
