BEGIN:VCALENDAR
VERSION:2.0
PRODID:-//tapahtumainfo.fi//NONSGML Risto Räppääjä ja Pakastaja-Elvi//EN
METHOD:REQUEST
BEGIN:VEVENT
UID:20260420T033502-908712067-tapahtumainfo.fi
DTSTAMP:20260420T033502
DTSTART:20260524T130000Z
DTEND:20260524T020000Z
LOCATION:Vinssisali
SUMMARY:Risto Räppääjä ja Pakastaja-Elvi
DESCRIPTION:<html><head></head><body>Tikkurilan Teatterikoulun Hedda-ryhmä esittää:<br /><br />Risto Räppääjä ja Pakastaja-Elvi<br /><br />Risto Räppääjä ja Pakastaja-Elvi on vauhdikas ja lämminhenkinen tarina siitä, mitä tapahtuu, kun Rauha-tädin serkku Elvi saapuu kylään - ja päättää, että Riston elämä kaipaa tiukkaa kuria ja järjestystä. Risto ja Nelli joutuvat keskelle hulvattomia tilanteita, kun Pakastaja-Elvin säännöt ja omalaatuiset kasvatuskeinot alkavat sotkea koko talon arjen. Lopulta ystävyys, rakkaus, rohkeus ja ripaus räppihenkeä näyttävät, että jokainen saa olla juuri sellainen kuin on.<br />Tikkurilan Teatterikoulun Hedda-ryhmä esittää tarinan iloisella energialla ja tiukalla yhdessä tekemisen otteella. Esitys tarjoaa naurua, jännitystä ja sydäntä - koko perheen iloksi.<br /><br />ESITYKSET:<br /><br />TI 19.5. klo 18.30<br />SU 24.5. klo 11.00 & 13.00 <br /><br />Käsikirjoitus: Sinikka Nopola & Tiina Nopola<br />Ohjaus: Tuukka Tiihonen<br /><br />Rooleissa:<br />Hedda-ryhmän oppilaat<br /><br />Esitys on Kulttuuritehdas Vernissan Vinssisalissa, 3. krs (osoite Tikkurilantie 36, 01300 Vantaa)<br /><br />Esityksen kesto: tarkentuu<br /><br />Esityksiin vain ennakkoliput 12 € / kpl. Alle 18-vuotiaat pääsevät esityksiin maksutta. Alle 18-vuotiaat voivat lunastaa vapaalipun NetTicketin ennakkomyynnistä.<br /><br />Näytelmän esitysoikeuksia valvoo Nordic Drama Corner Oy. <br /><br />  Visit event in our website: <a href='https://tapahtumainfo.fi/tapahtuma/2026/05/risto-rappaaja-ja-pakastaja-elvi/441806'>Tapahtumainfo.fi</a></body></html>
END:VEVENT
END:VCALENDAR
