BEGIN:VCALENDAR
VERSION:2.0
PRODID:-//tapahtumainfo.fi//NONSGML Punahilkka the Wolffighter//EN
METHOD:REQUEST
BEGIN:VEVENT
UID:20260422T144316-1226367578-tapahtumainfo.fi
DTSTAMP:20260422T144316
DTSTART:20260428T183000Z
DTEND:20260428T020000Z
LOCATION:Kulttuuritalo Grand
SUMMARY:Punahilkka the Wolffighter
DESCRIPTION:<html><head></head><body>Me, eli Borgå teaterskolanin syventävä ryhmä, kutsumme sipoolaisyleisön katsomaan versiotamme vanhasta klassikosta.<br />Takaamme, ettet ole ennen nähnyt tällaista versiota Punahilkasta!<br /><br />Tässä tulkinnassa Punahilkka kohtaa matkallaan metsän halki teetä juovia peikkoja, tanssivia kukkia, ritarin sekä paljon muuta, mikä haastaa hänet kasvamaan.<br />Punahilkka the Wolffighter on sanaton esitys, joka sopii kaikille kielestä tai mielestä riippumatta. Jotkin kohtaukset voivat olla hieman jännittäviä, joten suosittelemme esitystä kaikille 7-vuotiaista ylöspäin.<br /><br />Meidät on valittu mukaan Italiassa 6.-10.5. järjestettävään Sapperlott-teatterifestivaaliin. Festivaalille on valittu vain 10 ryhmää koko Euroopasta, ja kaikki ryhmät esittävät omat uudet teoksensa.<br /><br />Lipputulot menevät matkakustannustemme kattamiseen. Tule nauttimaan ainutlaatuisesta esityksestä ja tue samalla teatterimatkaamme.<br /><br />Nähdään Grandissa!<br /><br />Peruslippu: 16€<br />Eläkeläinen: 12,50€<br />Opiskelija, Työtön, Lapsi, Varusmies: 9,50€<br />Tukilippu: 20,50€<br /><br />Kesto: noin 1h - ei väliaika<br />Suositeltu ikä: 7-125 vuotta <br /><br />  Visit event in our website: <a href='https://tapahtumainfo.fi/tapahtuma/2026/04/punahilkka-the-wolffighter/441807'>Tapahtumainfo.fi</a></body></html>
END:VEVENT
END:VCALENDAR
