BEGIN:VCALENDAR
VERSION:2.0
PRODID:-//tapahtumainfo.fi//NONSGML Kiljusen herrasväen Kouvolan matka//EN
METHOD:REQUEST
BEGIN:VEVENT
UID:20260426T023522-278748750-tapahtumainfo.fi
DTSTAMP:20260426T023522
DTSTART:20260815T150000Z
DTEND:20260815T020000Z
LOCATION:Valkealan Kesäteatteri
SUMMARY:Kiljusen herrasväen Kouvolan matka
DESCRIPTION:<html><head></head><body>Jalmari Finnen alkuperäisten tekstien ja ideoiden pohjalta  työryhmän käsikirjoittama ja Maiju Laurilan ohjaama komedia.<br /><br />Valkealan kesäteatteri Ensi-ilta 31.7. kl 18.00<br /><br />Peruslippu: 25 €<br />Eläkeläinen, opiskelija, varusmies, työtön 20 €<br />Lapsi 7-16v 15 €<br />Lapsi alle 7v. ilmaiseksi<br />Ryhmä 20 € (min. 10 hlöä)<br />(palvelumaksu sis. hintaan)<br /><br />Huom! Istumapaikat myydään riveittäin.<br /><br />Kesto: noin 2,5h väliajan kanssa<br />Ovet avataan tuntia ennen <br /><br />  Visit event in our website: <a href='https://tapahtumainfo.fi/tapahtuma/2026/07/kiljusen-herrasvaen-kouvolan-matka/441808'>Tapahtumainfo.fi</a></body></html>
END:VEVENT
END:VCALENDAR
