BEGIN:VCALENDAR
VERSION:2.0
PRODID:-//tapahtumainfo.fi//NONSGML Palvelutalo Naisluola//EN
METHOD:REQUEST
BEGIN:VEVENT
UID:20260423T120250-1791676727-tapahtumainfo.fi
DTSTAMP:20260423T120250
DTSTART:20260718T150000Z
DTEND:20260718T020000Z
LOCATION:Valkealan Kesäteatteri
SUMMARY:Palvelutalo Naisluola
DESCRIPTION:<html><head></head><body>Palvelutalo Naisluola on Markku Hyvösen kirjoittama ja Eeva Keinosen ohjaama ratkiriemukas komedia palvelutalon asukkaista ja omistajista.<br /><br />Valkealan kesäteatteri Ensi-ilta 26.6. kl 18.00<br /><br />Peruslippu: 25 €<br />Eläkeläinen, opiskelija, varusmies, työtön 20 €<br />Lapsi 7-16v 15 €<br />Lapsi alle 7v. ilmaiseksi<br />Ryhmä 20 € (min. 10 hlöä)<br />(palvelumaksu sis. hintaan)<br /><br />Huom! Istumapaikat myydään riveittäin.<br /><br />Kesto: noin 2,5h väliajan kanssa<br />Ovet avataan tuntia ennen <br /><br />  Visit event in our website: <a href='https://tapahtumainfo.fi/tapahtuma/2026/06/palvelutalo-naisluola/441810'>Tapahtumainfo.fi</a></body></html>
END:VEVENT
END:VCALENDAR
