BEGIN:VCALENDAR
VERSION:2.0
PRODID:-//tapahtumainfo.fi//NONSGML Romeon ja Julian tarina//EN
METHOD:REQUEST
BEGIN:VEVENT
UID:20260422T175108-1820310724-tapahtumainfo.fi
DTSTAMP:20260422T175108
DTSTART:20260524T160000Z
DTEND:20260524T020000Z
LOCATION:Vinssisali
SUMMARY:Romeon ja Julian tarina
DESCRIPTION:<html><head></head><body>Tikkurilan Teatterikoulun Figaro-ryhmä esittää:<br /><br />Romeon ja Julian tarina<br /><br />Romeon ja Julian tarina on koskettava kertomus kahden nuoren rakastavaisen kohtalosta keskellä kahden suvun katkeraa riitaa. Kun Romeo ja Julia kohtaavat, heidän välilleen syttyy rakkaus, joka on yhtä kiihkeä kuin se on kielletty. Salaiset tapaamiset, uskolliset ystävät ja suvun velvoitteet kietoutuvat yhteen tarinassa, jossa jokainen valinta vie kohti väistämätöntä kohtaloa.<br />Tikkurilan Teatterikoulun Figaro-ryhmä esittää klassikon ajanmukaisella arvokkuudella ja vahvalla läsnäololla. Esitys vie katsojan aikaan, jolloin sanat, kunnia ja rakkaus saattoivat muuttaa kaiken.<br /><br />ESITYKSET:<br /><br />LA 23.5. klo 16.00 (maksuton esitys, osa Nuori Kulttuuri -festivaalia)<br />SU 24.5. klo 16.00 <br /><br />Käsikirjoitus: William Shakespeare<br />Dramatisointi: Markku Pölönen<br />Ohjaus: Tuukka Tiihonen<br /><br />Rooleissa:<br />Figaro-ryhmän oppilaat<br /><br />Esitys on Kulttuuritehdas Vernissan Vinssisalissa, 3. krs (osoite Tikkurilantie 36, 01300 Vantaa)<br /><br />Esityksen kesto: tarkentuu<br /><br />Esityksiin vain ennakkoliput 12 € / kpl. Alle 18-vuotiaat pääsevät esityksiin maksutta. Alle 18-vuotiaat voivat lunastaa vapaalipun NetTicketin ennakkomyynnistä.<br /><br />Näytelmän esitysoikeuksia valvoo Suomen <br />Näytelmäkirjailijat ja Käsikirjoittajat ry.<br /> <br /><br />  Visit event in our website: <a href='https://tapahtumainfo.fi/tapahtuma/2026/05/romeon-ja-julian-tarina/441811'>Tapahtumainfo.fi</a></body></html>
END:VEVENT
END:VCALENDAR
