BEGIN:VCALENDAR
VERSION:2.0
PRODID:-//tapahtumainfo.fi//NONSGML Kevätnäytös: Aikamatka//EN
METHOD:REQUEST
BEGIN:VEVENT
UID:20260424T170253-2069846255-tapahtumainfo.fi
DTSTAMP:20260424T170253
DTSTART:20260507T020000Z
DTEND:20260507T020000Z
LOCATION:Raahesali
SUMMARY:Kevätnäytös: Aikamatka
DESCRIPTION:<html><head></head><body><h2>Funky Hallin kevätnäytös:&nbsp;AIKAMATKA</h2><br /><p><br><strong>Näytöksissä on pääasiassa eri sisällöt, tässä päiväkohtainen ryhmäjako, huom</strong><strong>. EI</strong> esiintymisjärjestys<strong>:</strong></p><br /><p><br /></p><br /><p>⭐ 2.näytös (TORSTAI, 7.5.)<br>Show 1-2, N&A / Jaana<br></p><br /><p>3-4-v lastentanssi / E&M<br>10-14v show / Jaana<br>Oikiasti Aikuiset EK / H-M&Riitta<br>Tanssitekniikka, show / H-M<br>Show 3, N&A / H-M<br>5-6-v lastentanssi / Jaana<br>Latin fusion, N&A / Minna<br>Hip hop 2, N&A / Wilma<br>Funky Show EK junnut&nuoret / H-M&Riitta<br>Commercial 2, N&A / Wilma<br>7-9-v hiphop / E&M<br>10-13-v hiphop JA torstain show&hiphop-ryhmä / E&M <br><br></p><br /><p>Aika: to 7.5.2026 klo 18.30<br>Paikka: Raahesali<br>Kesto: n. 75 min<strong><br></strong></p><br /><p><strong>Liput ennakkoon (sis. palvelumaksu):</strong><br>- 16 € peruslippu <br>- 10 € alennuslippu ennakkoon (alle 12-v. lapsi, opiskelija, eläkeläinen, työtön)<strong><br><br>Liput&nbsp;esityspäivänä (sis. palvelumaksu)<br></strong>- 18 € peruslippu näytöspäivänä<br>- 12 € alennuslippu näytöspäivänä (alle 12-v. lapsi, opiskelija, eläkeläinen, työtön)</p><br /><p><strong>Vammaisavustaja / saattaja:</strong><br>Vammaisavustajalle / saattajalle ilmaislippu. Pyydämme esittämään vammaiskortin lipunmyynnin yhteydessä.<br><a href="https://vammaiskortti.fi/" target="_blank">www.vammaiskortti.fi</a><br><a href="https://www.kela.fi/benefit-forms/VK1.pdf">Tilauslupa - EU:n vammaiskorttia varten (kela.fi)</a></p><br /><p><strong>Kaikukortti:</strong><br>Tähän tilaisuuteen on mahdollista osallistua kaikukortilla. Pääsyliput myydään aikajärjestyksessä. Huomioitavaa on, että tilaisuudessa on kaikukorttikiintiö ja paikkoja rajoitetusti.<br>Lisätietoja: <a href="http://www.kaikukortti.fi/">www.kaikukortti.fi</a></p><br /><p>Järj. Funky Hall SODAP ry</p><br /><p>www.funkyhallsodap.com</p><br /><p>Ovet saliin avataan 15 min ennen esitystä.<br>Alennuksiin oikeuttavat kortit tarkistetaan ovella</p><br /><br /><p><strong>Vammaisavustaja / saattaja:</strong><br>Vammaisavustajalle / saattajalle ilmaislippu. Pyydämme esittämään vammaiskortin lipunmyynnin yhteydessä.<br><a href="https://vammaiskortti.fi/" target="_blank">www.vammaiskortti.fi</a><br><a href="https://www.kela.fi/benefit-forms/VK1.pdf">Tilauslupa - EU:n vammaiskorttia varten (kela.fi)</a></p><br /><p><strong>Kaikukortti:</strong><br>Tähän tilaisuuteen on mahdollista osallistua kaikukortilla. Pääsyliput myydään aikajärjestyksessä. Huomioitavaa on, että tilaisuudessa on kaikukorttikiintiö ja paikkoja rajoitetusti.<br>Lisätietoja: <a href="http://www.kaikukortti.fi/">www.kaikukortti.fi</a></p><br /><p>Järj. Funky Hall SODAP ry</p><br /><p>www.funkyhallsodap.com</p><br /><p><br>Ovet saliin avataan 15 min&nbsp;ennen esitystä.<br>Alennuksiin oikeuttavat kortit tarkistetaan ovella</p> <br /><br />  Visit event in our website: <a href='https://tapahtumainfo.fi/tapahtuma/2026/05/kevatnaytos-aikamatka/441812'>Tapahtumainfo.fi</a></body></html>
END:VEVENT
END:VCALENDAR
