BEGIN:VCALENDAR
VERSION:2.0
PRODID:-//tapahtumainfo.fi//NONSGML Mikä IHME 80-luku?//EN
METHOD:REQUEST
BEGIN:VEVENT
UID:20260420T070505-1286613370-tapahtumainfo.fi
DTSTAMP:20260420T070505
DTSTART:20260528T190000Z
DTEND:20260528T020000Z
LOCATION:Vinssisali
SUMMARY:Mikä IHME 80-luku?
DESCRIPTION:<html><head></head><body>Tikkurilan Teatterikoulun Jeppe-ryhmä esittää:<br /><br />Mikä IHME 80-luku?<br /><br />ESITYKSET:<br /><br />TO 21.5. klo 19.00 <br />TO 28.5. klo 19.00 <br /><br />Ohjaus: Riikka Niemistö<br /><br />Rooleissa:<br />Jeppe-ryhmän oppilaat<br /><br />Esitys on Kulttuuritehdas Vernissan Vinssisalissa, 3. krs (osoite Tikkurilantie 36, 01300 Vantaa)<br /><br />Esityksen kesto: tarkentuu<br /><br />Esityksiin on vapaaliput, mutta lunastathan silti vapaalippusi NetTicketistä! <br /><br />  Visit event in our website: <a href='https://tapahtumainfo.fi/tapahtuma/2026/05/mika-ihme-80-luku/441813'>Tapahtumainfo.fi</a></body></html>
END:VEVENT
END:VCALENDAR
