BEGIN:VCALENDAR
VERSION:2.0
PRODID:-//tapahtumainfo.fi//NONSGML Öllerin talossa//EN
METHOD:REQUEST
BEGIN:VEVENT
UID:20260420T093602-1277467281-tapahtumainfo.fi
DTSTAMP:20260420T093602
DTSTART:20260502T150000Z
DTEND:20260502T020000Z
LOCATION:Kiertuekatsomo
SUMMARY:Öllerin talossa
DESCRIPTION:<html><head></head><body>K-Mikot ryhmä (A9)  sai museolta tekstin, johon he Nelli Ojapalon kanssa tekivät kaksi kohtausta lisää. Öllerin talossa on 1800-luvun loppuun sijoittuva Vilmelm Ölleristä kertova lyhyt nostalginen näytelmä.<br /><br />Esitykset Hyvinkään Rautatiemuseolla ja Riihimäen Riemu-museolla.<br /><br />Esitykset: LA 2.5. klo 13 & 15, Suomen Rautatiemuseo, Hvyinkää. Ennakkomyynti ja paikan päällä lippukassa. Huom! Tilaan mahtuu vain 30 katsojaa. Näytöslipulla saa museolipun puoleen hintaan.<br /><br />SU 17.5.2026 klo 13 & 15 Riemu -museot, Riihimäki. Ei ennakkomyyntiä. Liput paikan päältä: Riemu -museon sisäänpääsylippu. <br /><br />  Visit event in our website: <a href='https://tapahtumainfo.fi/tapahtuma/2026/05/ollerin-talossa/441815'>Tapahtumainfo.fi</a></body></html>
END:VEVENT
END:VCALENDAR
