BEGIN:VCALENDAR
VERSION:2.0
PRODID:-//tapahtumainfo.fi//NONSGML WAU Cup & Stara//EN
METHOD:REQUEST
BEGIN:VEVENT
UID:20260420T093903-793289691-tapahtumainfo.fi
DTSTAMP:20260420T093903
DTSTART:20260425T153000Z
DTEND:20260425T020000Z
LOCATION:Botnia-halli
SUMMARY:WAU Cup & Stara
DESCRIPTION:<html><head></head><body>Lämpimästi tervetuloa seuraamaan Wasa Uniquen järjestämää WAU Cup & Staraa 25.4.2026 Botniahallille! Kilpailu tarjoaa iloa, elämyksiä ja aitoa kisajännitystä alusta loppuun. Tule paikan päälle kannustamaan voimistelijat huippusuorituksiin ja viettämään mukava päivä voimistelun parissa<br /><br />Lippujen hinnat:<br />Päivälippu aikuiset ja lapset yli 12v. ennakkoon 19€<br />Lapset 4-12v. ennakkoon 6€<br />Sylilapset (alle 3v.) ilmaiseksi<br /><br />Blokkikohtaiset liput:<br />Aikuiset ja lapset yli 12v ennakkoon 13€<br />Lapset 4-12v. ennakkoon 5€<br />Sylilapset (alle 3v.) ilmaiseksi<br /><br />Huom!! Ennakkomyynti päättyy 24.4.2026 klo 23:59<br /><br />Päivän aikataulu:<br />Kilpailun avaus klo 11.00-11.05<br /><br />Blokki 1 klo 11.05-12.35<br />Stara JV & KA<br />12-14 SM<br />Yli 18 HK<br />Yli 25H<br /><br />Tauko klo 12.35-13.15 (palkintojenjako 12-14 SM, Yli 18 KH, Yli 25H)<br /><br />Blokki 2 klo 13.15-14.50<br />Stara TeamGym<br />8-10v.<br />14-16 K<br />12-14 HK<br />16-18 K<br /><br />Tauko klo 14.50-15.30 (palkintojenjako 14-16 K, 12-14 KH, 16-18 K, kunniamaininnat 8-10v.)<br /><br />Blokki 3 klo 15.30-17.25<br />8-12 H<br />10-12v.<br />12-14K<br />14-16 HK<br />16-18 HK<br /><br />Palkintojenjako 10-12v., 12-14K, 14-16 HK, 16-18 HK, kunniamaininnat 8-12 H heti kilpailun päätyttyä.<br /><br />Ovelta lippuja myydään vain, mikäli niitä jää jäljelle. Huom! Ovelta ostettaessa lippujen hinta on kalliimpi. <br /><br />  Visit event in our website: <a href='https://tapahtumainfo.fi/tapahtuma/2026/04/wau-cup-stara/441817'>Tapahtumainfo.fi</a></body></html>
END:VEVENT
END:VCALENDAR
