BEGIN:VCALENDAR
VERSION:2.0
PRODID:-//tapahtumainfo.fi//NONSGML Glesbygdsfarsen MAN FÅR VÄL STÄLLA UPP//EN
METHOD:REQUEST
BEGIN:VEVENT
UID:20260422T132114-739658234-tapahtumainfo.fi
DTSTAMP:20260422T132114
DTSTART:20260809T160000Z
DTEND:20260809T020000Z
LOCATION:Museigården i Tenala
SUMMARY:Glesbygdsfarsen MAN FÅR VÄL STÄLLA UPP
DESCRIPTION:<html><head></head><body>I sommar ska det bli något helt nytt och unikt då Sommarteater i Tenala sätter upp glesbygdsfarsen MAN FÅR VÄL STÄLLA UPP på Museigården i Tenala! Pjäsen är skriven av stå-uppkomikern, programledaren och regissören  Adde Malmberg år 2019.<br /><br />Glesbygdsfarsen Man får väl ställa upp har premiär torsdagen 11.6.2026 kl 19.00 på Museigårdens utescen. Det blir en föreställning som passar både vuxna, ungdomar och barn. <br /><br />Biljetter:<br />Vuxna 25€<br />Pensionärer 22€<br />Barn 6-15 år 15€<br />Studerande, Arbetslösa, Beväringar 20€<br /><br />Grupper (minimi 20 personer) 16€<br /><br />Längd 2h 30 min, 1 paus<br /> <br /><br />  Visit event in our website: <a href='https://tapahtumainfo.fi/tapahtuma/2026/06/glesbygdsfarsen-man-far-val-stalla-upp/441819'>Tapahtumainfo.fi</a></body></html>
END:VEVENT
END:VCALENDAR
