BEGIN:VCALENDAR
VERSION:2.0
PRODID:-//tapahtumainfo.fi//NONSGML Profilkonsert i Uspenskijkatedralen//EN
METHOD:REQUEST
BEGIN:VEVENT
UID:20260419T235053-1389743908-tapahtumainfo.fi
DTSTAMP:20260419T235053
DTSTART:20260612T220000Z
DTEND:20260612T020000Z
LOCATION:Uspenskijkatedralen
SUMMARY:Profilkonsert i Uspenskijkatedralen
DESCRIPTION:<html><head></head><body>Fredag 12.6.2026 samlas några av Finlands toppensembler för att uppträda med profilkonserter i samband med Sång- och musikfesten 2026. I Uspenskijkatedralen uppträder tre av Finlands främsta körer med en unik nattkonsert. <br />OBS! Begränsat antal platser, köp biljett i god tid!<br /><br />Uppträdande körer:<br />NOX<br />Finlands Ungdomskör - Suomen Nuorisokuoro<br />Spira Ensemble<br /><br />12.6 kl  22.00 - 23.00<br /><br />Biljett 25 €<br />Pensionär, studerande, beväring, arbetslös 10 €<br />Sångfestdeltagare 5 € (uppvisa sångfestpasset vid dörren) <br /><br />  Visit event in our website: <a href='https://tapahtumainfo.fi/tapahtuma/2026/06/profilkonsert-i-uspenskijkatedralen/441820'>Tapahtumainfo.fi</a></body></html>
END:VEVENT
END:VCALENDAR
