BEGIN:VCALENDAR
VERSION:2.0
PRODID:-//tapahtumainfo.fi//NONSGML Korot kattoon!//EN
METHOD:REQUEST
BEGIN:VEVENT
UID:20260420T004657-578010668-tapahtumainfo.fi
DTSTAMP:20260420T004657
DTSTART:20261010T180000Z
DTEND:20261010T020000Z
LOCATION:Alvar
SUMMARY:Korot kattoon!
DESCRIPTION:<html><head></head><body><b>Seinäjoen kaupunginteatteri</b><br /><b>Alvar Aallon katu 12, 60100 Seinäjoki</b><br /><br />KOROT KATTOON!<br />-eli valmennusta ja viettelyksiä.<br /><br />Suomalainen telenovela Korot kattoon on komedia kovasta yrittämisestä ihmissuhteiden viidakossa.<br />Luvassa on railakasta menoa, mielipuolisia käänteitä ja intensiivisiä tuijotuksia.<br /><br />10 hahmoa, kaksi koomikkoa.<br />Ahmi koko kausi tunnissa.<br /><br />Rooleissa: Ria Kataja ja Minna Kivelä<br />Käsikirjoitus ja ohjaus: Virpi Haatainen<br />Esityksen kesto n. 2h väliaikoineen.<br /><br />Marja-Leena tulee ravintolaan ostamaan facebook-kirpparimekkoa Evalta. Myyntihenkinen Eva saa selville ettei Marja-Leenalla ole miestä.<br />Eipä aikaakaan, kun Eva on perustanut valmentavan treffipalvelun ja niin alkaa Marja-Leenan treenaus ihmissuhdemarkkinoille ja intensiivivalmennus kohti villejä viettelyksiä.<br /><br />Kuvien valokuvaaja: Vanessa Riki <br /><br />  Visit event in our website: <a href='https://tapahtumainfo.fi/tapahtuma/2026/10/korot-kattoon/441821'>Tapahtumainfo.fi</a></body></html>
END:VEVENT
END:VCALENDAR
