BEGIN:VCALENDAR
VERSION:2.0
PRODID:-//tapahtumainfo.fi//NONSGML Metsäketo & Tessa Virta duo - Joulun sävelin//EN
METHOD:REQUEST
BEGIN:VEVENT
UID:20260420T161919-1198782023-tapahtumainfo.fi
DTSTAMP:20260420T161919
DTSTART:20261216T183000Z
DTEND:20261216T020000Z
LOCATION:Silkkisali
SUMMARY:Metsäketo & Tessa Virta duo - Joulun sävelin
DESCRIPTION:<html><head></head><body>Teatteri Vantaa Silkkisali, Tikkurilantie 44 / Silkkitehtaantie 5, 01300 Vantaa<br />www.teatterivantaa.fi<br /><br />ke 16.12.2026 klo 18.30<br /><br />Tule kokemaan lämminhenkinen ja tunnelmallinen joulukonsertti, jossa hurmaava tenori Tomi Metsäketo, herkkävireinen pianisti-laulaja Tessa Virta ja kontrabasisti Olli Peuhu johdattavat kuulijat unohtumattomaan, sydäntä koskettavaan musiikkihetkeen.<br />Konsertti rakentuu rakastetuista, melodisista joululauluista Suomesta ja maailmalta - sävelistä, jotka herättävät muistoja ja luovat joulun taikaa. Illan aikana kuullaan muun muassa Sylvian joululaulu, Tonttu sekä Walking in the Air.<br />Luvassa on koskettava ja viihdyttävä ilta, jossa joulun rauha, lämpö ja musiikin lumous kohtaavat.<br /><br />Kesto: n. 1h 45min, sis. väliajan<br />Huom. K18-tilaisuuksia (anniskeluoikeus myös teatterisalissa)<br />Liput: 39 / 37 / 24 €, sis. Netticketin palvelumaksut<br />Ryhmävaraukset teatterin toimistosta, p. 09 836 1919.<br /><br />HUOM. Puolet permantopaikoista (mm. 2 pyörätuolipaikkaa) myydään teatterin toimistosta, p. 09 836 1919.<br /><br />Cafe Silkki palvelee tuntia ennen esitystä sekä väliajalla. Kahvilassa ja salissa on anniskeluoikeus. Tervetuloa! <br /><br />  Visit event in our website: <a href='https://tapahtumainfo.fi/tapahtuma/2026/12/metsaketo-tessa-virta-duo-joulun-savelin/441822'>Tapahtumainfo.fi</a></body></html>
END:VEVENT
END:VCALENDAR
